BEGIN:VCALENDAR
VERSION:2.0
PRODID:-//ChamberMaster//Event Calendar 2.0//EN
METHOD:PUBLISH
X-PUBLISHED-TTL:P3D
REFRESH-INTERVAL:P3D
CALSCALE:GREGORIAN
BEGIN:VEVENT
DTSTART:20190828T223000Z
DTEND:20190829T000000Z
X-MICROSOFT-CDO-ALLDAYEVENT:FALSE
SUMMARY:Beer Run/Walk
DESCRIPTION:Join HealthSource of Rogers for a 2 mile run/walk and a drink afterwards! Did we mention the first beer is on us? Find event details and registration on our Facebook page! \n\n\n\n5:15-5:40 - Sign-in\, warm-up\, and get ready to run! \n\n5:45 SHARP - run will start\, same route as last event for those who will be joining us again! \n\nPost run/walk - grab your drink ticket and join us afterwards for a free drink!\n\n\n\n**Adults only event! \n\n\n\nQuestions? Send Lauren an email at LHaugenHS@gmail.com
X-ALT-DESC;FMTTYPE=text/html:Join HealthSource of Rogers for a 2 mile run/walk and a drink afterwards! Did we mention the first beer is on us? Find event details and registration on our Facebook page!&nbsp\;<br />\n<br />\n5:15-5:40 - Sign-in\, warm-up\, and get ready to run!&nbsp\;<br />\n5:45 SHARP - run will start\, same route as last event for those who will be joining us again!&nbsp\;<br />\nPost run/walk - grab your drink ticket and join us afterwards for a free drink!<br />\n<br />\n**Adults only event!&nbsp\;<br />\n<br />\nQuestions? Send Lauren an email at LHaugenHS@gmail.com
LOCATION:Short or Tall Eatery and Drink Hall 21050 135th Ave. N Rogers\, MN 55374
UID:e.1321.6298
SEQUENCE:3
DTSTAMP:20260420T213728Z
URL:https://business.i94westchamber.org/events/details/beer-run-walk-08-28-2019-6298
END:VEVENT

END:VCALENDAR
