BEGIN:VCALENDAR
VERSION:2.0
PRODID:-//ChamberMaster//Event Calendar 2.0//EN
METHOD:PUBLISH
X-PUBLISHED-TTL:P3D
REFRESH-INTERVAL:P3D
CALSCALE:GREGORIAN
BEGIN:VEVENT
DTSTART:20151114T140000Z
DTEND:20151114T213000Z
X-MICROSOFT-CDO-ALLDAYEVENT:FALSE
SUMMARY:Best Life Ministries - Women's Conference
DESCRIPTION:Best Life Ministries & New Joy Church present:\n\n\n\n"Get on Track!" Feeling derailed with your busy life? Jumped the track and headed in the wrong direction? In this main session\, be ready to get on board and on the right track with Kathy as she helps you to determine how to train your heart and mind to recognize God's purpose so that you can live your Best Life.\n\n\n\nA one-day conference for women.\n\nTickets:  $35.00 Regular Admission.  Tickets are available at New Joy\, online\, or at the door.\n\nLunch Included\n\nhttp://bestlifeministries.com/november-14-2015new-joy-church-rogers-mn/
X-ALT-DESC;FMTTYPE=text/html:<span style="font-size:16px"><em><strong>Best Life Ministries &amp\; New Joy Church present:</strong></em></span><br />\n<br />\n<strong>&ldquo\;Get on Track!&rdquo\;</strong><span style="color:rgb(71\, 71\, 71)\; font-family:lucida sans unicode\,lucida sans\,lucida grande\,arial\,sans-serif\; font-size:12px">&nbsp\;Feeling&nbsp\;</span><em>derailed</em><span style="color:rgb(71\, 71\, 71)\; font-family:lucida sans unicode\,lucida sans\,lucida grande\,arial\,sans-serif\; font-size:12px">&nbsp\;with your busy life?&nbsp\;</span><em>Jumped the </em><em>track </em><span style="color:rgb(71\, 71\, 71)\; font-family:lucida sans unicode\,lucida sans\,lucida grande\,arial\,sans-serif\; font-size:12px">and</span><span style="color:rgb(71\, 71\, 71)\; font-family:lucida sans unicode\,lucida sans\,lucida grande\,arial\,sans-serif\; font-size:12px"> headed in the wrong direction? In this main session\, be ready </span><span style="color:rgb(71\, 71\, 71)\; font-family:lucida sans unicode\,lucida sans\,lucida grande\,arial\,sans-serif\; font-size:12px">to </span><em>get</em><em> on board</em><span style="color:rgb(71\, 71\, 71)\; font-family:lucida sans unicode\,lucida sans\,lucida grande\,arial\,sans-serif\; font-size:12px">&nbsp\;and on&nbsp\;</span><em>the right track</em><span style="color:rgb(71\, 71\, 71)\; font-family:lucida sans unicode\,lucida sans\,lucida grande\,arial\,sans-serif\; font-size:12px">&nbsp\;with&nbsp\;Kathy as she helps you to determine how </span><span style="font-family:lucida sans unicode\,lucida sans\,lucida grande\,arial\,sans-serif\; font-size:12px">to</span><em>&nbsp\;train&nbsp\;</em><span style="font-family:lucida sans unicode\,lucida sans\,lucida grande\,arial\,sans-serif\; font-size:12px">your heart and mind to recognize God&rsquo\;s purpose so that you can live your Best Life.</span><br />\n<br />\n<span style="color:rgb(71\, 71\, 71)\; font-family:lucida sans unicode\,lucida sans\,lucida grande\,arial\,sans-serif\; font-size:12px">A one-day conference for women.</span>\n\n<p><strong>Tickets:&nbsp\; $35.00 Regular Admission.&nbsp\; Tickets are available at&nbsp\;New Joy\, online\, or at the door.</strong></p>\n\n<p><strong>Lunch Included</strong><br />\nhttp://bestlifeministries.com/november-14-2015new-joy-church-rogers-mn/<br />\n&nbsp\;</p>\n<br />\n&nbsp\;
LOCATION:New Joy Church 12825 Tucker Road\, Rogers
UID:e.1321.1799
SEQUENCE:3
DTSTAMP:20260422T100331Z
URL:https://business.i94westchamber.org/events/details/best-life-ministries-women-s-conference-11-14-2015-1799
END:VEVENT

END:VCALENDAR
