BEGIN:VCALENDAR
VERSION:2.0
PRODID:-//ChamberMaster//Event Calendar 2.0//EN
METHOD:PUBLISH
X-PUBLISHED-TTL:P3D
REFRESH-INTERVAL:P3D
CALSCALE:GREGORIAN
BEGIN:VEVENT
DTSTART:20170205T190000Z
DTEND:20170205T210000Z
X-MICROSOFT-CDO-ALLDAYEVENT:FALSE
SUMMARY:Bingo - Knights of Columbus
DESCRIPTION:K.C. BINGO\n\n \n\n \n\nSunday\, February 5\, 2017\n\nStarting promptly at 1:00 pm\n\n \n\nMary Queen of Peace Hall\n\nSt. Martin campus   downtown Rogers\n\n \n\nKids are welcome to play!\n\n \n\n1 card - $7\, 2 cards - $6 each\, \n\n3 cards or more - $5 each\n\n \n\n*20 regular games with $10 - $20 prizes\n\n*Progressive Cover-All game\n\n*PLUS 5 "Split the Pot" games\n\n \n\nSnacks & beverages available\n\n \n\nSponsored by N.W.-Hennepin K.C. Council #11941
X-ALT-DESC;FMTTYPE=text/html:<strong><span style="font-size:36.0pt\;">K.C. BINGO</span></strong><br />\n&nbsp\;<br />\n&nbsp\;<br />\n<strong><span style="font-size:24.0pt\;">Sunday\, February 5\, 2017</span></strong><br />\n<strong><span style="font-size:24.0pt\;">Starting promptly at 1:00 pm</span></strong><br />\n&nbsp\;<br />\n<strong><span style="font-size:24.0pt\;">Mary Queen of Peace Hall</span></strong><br />\n<strong><span style="font-size:24.0pt\;">St. Martin campus &ndash\; downtown Rogers</span></strong><br />\n&nbsp\;<br />\n<strong><span style="font-size:24.0pt\;">Kids are welcome to play!</span></strong><br />\n&nbsp\;<br />\n<strong><span style="font-size:24.0pt\;">1 card - $7\, 2 cards - $6 each\, </span></strong><br />\n<strong><span style="font-size:24.0pt\;">3 cards or more - $5 each</span></strong><br />\n&nbsp\;<br />\n<strong><span style="font-size:24.0pt\;">*20 regular games with $10 - $20 prizes</span></strong><br />\n<strong><span style="font-size:24.0pt\;">*Progressive Cover-All game</span></strong><br />\n<strong><span style="font-size:24.0pt\;">*<em>PLUS</em> 5 &ldquo\;Split the Pot&rdquo\; games</span></strong><br />\n&nbsp\;<br />\n<strong><em><span style="font-size:16.0pt\;">Snacks &amp\; beverages available</span></em></strong><br />\n&nbsp\;<br />\n<strong><em><span style="font-size:16.0pt\;">Sponsored by N.W.-Hennepin K.C. Council #11941</span></em></strong><br />\n&nbsp\;
LOCATION:
UID:e.1321.2601
SEQUENCE:3
DTSTAMP:20260421T144242Z
URL:https://business.i94westchamber.org/events/details/bingo-knights-of-columbus-2601
END:VEVENT

END:VCALENDAR
