BEGIN:VCALENDAR
VERSION:2.0
PRODID:-//ChamberMaster//Event Calendar 2.0//EN
METHOD:PUBLISH
X-PUBLISHED-TTL:P3D
REFRESH-INTERVAL:P3D
CALSCALE:GREGORIAN
BEGIN:VEVENT
DTSTART:20161001T153000Z
DTEND:20161001T183000Z
X-MICROSOFT-CDO-ALLDAYEVENT:FALSE
SUMMARY:Blessing of Animals Worship Service
DESCRIPTION:Blessing of Animals\, Bloodmobile\, Crafts and Lunch. Animal blessing at 11am. Bring you leashed or crated pet\, or a poto of your current or deceased pet. ( All are welcome!) \n\nBlood Donation times available 10:30am-1:30pm. To make an appt.\, sign up online at mbc.org/searchdrives and enter code 4404\, or call Nancy at 763-412-7131.\n\nPet Adoption by Ruff Start Rescue.\n\nDrawings-gift cards form Chuch and Don's Petfood Store PLUS Services information.
X-ALT-DESC;FMTTYPE=text/html:Blessing of Animals\, Bloodmobile\, Crafts and Lunch. Animal blessing at 11am. Bring you leashed or crated pet\, or a poto of your current or deceased pet. ( All are welcome!)&nbsp\;<br />\nBlood Donation times available 10:30am-1:30pm. To make an appt.\, sign up online at mbc.org/searchdrives and enter code 4404\, or call Nancy at 763-412-7131.<br />\nPet Adoption by Ruff Start Rescue.<br />\nDrawings-gift cards form Chuch and Don&#39\;s Petfood Store PLUS Services information.
LOCATION:Holy Trinity Episcopal Church 1326 4th St. NW Elk River\, MN 55330
UID:e.1321.2425
SEQUENCE:3
DTSTAMP:20260421T200257Z
URL:https://business.i94westchamber.org/events/details/blessing-of-animals-worship-service-2425
END:VEVENT

END:VCALENDAR
