BEGIN:VCALENDAR
VERSION:2.0
PRODID:-//ChamberMaster//Event Calendar 2.0//EN
METHOD:PUBLISH
X-PUBLISHED-TTL:P3D
REFRESH-INTERVAL:P3D
CALSCALE:GREGORIAN
BEGIN:VEVENT
DTSTART:20161206T150000Z
DTEND:20161206T180000Z
X-MICROSOFT-CDO-ALLDAYEVENT:FALSE
SUMMARY:Blood Drive - Focal Point Flooring
DESCRIPTION:You have a chance to ride into the New Year on a brand new ATV! Memorial Blood Centers is partnering with Polaris Industries to offer all presenting blood donors during the month of December a chance to win a Polaris ATV.\n\n			Maintaining a stable blood supply around the holidays is challenging as many people head out of town to enjoy time with family\, but the need for blood is constant. Every two seconds someone needs blood and patients in local hospitals depend on Memorial Blood Centers to be there with the blood they need to survive. Only volunteer donors can help ensure blood is available.\n\n			Plus\, those who present to donate from Tuesday\, December 20\, 2016 through Tuesday\, January 3\, 2017 will also receive a free long-sleeve shirt as an extra thank you.\n\n			Only volunteer blood donors can help save lives. To schedule your life-saving donation today visit MBC.ORG\, call 1-888-GIVE-BLD (1-888-448-3253)\, or contact one of the following blood drive sponsors.
X-ALT-DESC;FMTTYPE=text/html:<table align="center" border="1" cellpadding="0" cellspacing="0" style="width:745px\;border-collapse:collapse\;border:none\;" width="745">\n	<tbody>\n		<tr style="height:23px\;">\n			<td nowrap="nowrap" style="width:221px\;border:solid windowtext 1.0pt\;padding:0in 5.4pt 0in 5.4pt\;height:23px\;"><span style="font-family:arial\,sans-serif\;"><span style="font-size:10.0pt\;">You</span></span><span style="font-family:arial\,sans-serif\;"><span style="font-size:10.0pt\;"> have a chance to <strong>ride into the New Year on a brand new ATV</strong>! Memorial Blood Centers is partnering with Polaris Industries to offer all presenting blood donors during the month of December a chance to win a Polaris ATV.</span></span><br />\n			<span style="font-family:arial\,sans-serif\;"><span style="font-size:10.0pt\;">Maintaining a stable blood supply around the holidays is challenging as many people head out of town to enjoy time with family\, but the need for blood is constant. Every two seconds someone needs blood and patients in local hospitals depend on Memorial Blood Centers to be there with the blood they need to survive. Only volunteer donors can help ensure blood is available.</span></span><br />\n			<span style="font-family:arial\,sans-serif\;"><span style="font-size:10.0pt\;">Plus\, those who present to donate from <strong>Tuesday\,</strong> <strong>December 20\, 2016 through Tuesday\, January 3\, 2017 will also receive a free long-sleeve shirt</strong> as an extra thank you.</span></span><br />\n			<span style="font-family:arial\,sans-serif\;"><span style="font-size:10.0pt\;">Only volunteer blood donors can help save lives. To schedule your life-saving donation today visit </span></span><a href="http://www.MBC.org"><span style="font-family:arial\,sans-serif\;"><span style="font-size:10.0pt\;">MBC.ORG</span></span></a><span style="font-family:arial\,sans-serif\;"><span style="font-size:10.0pt\;">\, call 1-888-GIVE-BLD (1-888-448-3253)\, or contact one of the following blood drive sponsors.</span></span><br />\n			&nbsp\;</td>\n		</tr>\n	</tbody>\n</table>\n\n<div style="clear:both\;">&nbsp\;</div>\n
LOCATION:5600 Queens Ave NE\, Ste 100 Otsego
UID:e.1321.2532
SEQUENCE:3
DTSTAMP:20260421T155545Z
URL:https://business.i94westchamber.org/events/details/blood-drive-focal-point-flooring-2532
END:VEVENT

END:VCALENDAR
