BEGIN:VCALENDAR
VERSION:2.0
PRODID:-//ChamberMaster//Event Calendar 2.0//EN
METHOD:PUBLISH
X-PUBLISHED-TTL:P3D
REFRESH-INTERVAL:P3D
CALSCALE:GREGORIAN
BEGIN:VEVENT
DTSTART:20160919T200000Z
DTEND:20160920T000000Z
X-MICROSOFT-CDO-ALLDAYEVENT:FALSE
SUMMARY:Blood Drive - Knights of Columbus
DESCRIPTION:Memorial Blood Centers invites all eligible blood donors to roll up their sleeve and give blood. Every 2 seconds someone needs blood   from heart transplant and cancer patients to accident victims. The need for blood is constant\, but the supply is not. Only volunteer blood donors can make a life-saving difference to someone in need. \n\n \n\nStep up to give blood at a blood drive in your neighborhood and help save lives. Donating blood is convenient and safe when you are healthy\, well and:\n\n \n\n	In good health\n	Free of antibiotics for 24 hours\, unless taken daily for skin condition\n	Symptom-free for at least 3 days following a cold or a flu\n	17 years or older 16 with written parental consent (form available at MBC.ORG)\n\n	 \n\nWhile walk-in donors are always welcome\, we encourage appointments to be made in advance. To register for a blood drive\, go online to MBC.ORG or contact the sponsoring organization directly.
X-ALT-DESC;FMTTYPE=text/html:<span style="font-size:10.0pt\;">Memorial Blood Centers invites all eligible blood donors to roll up their sleeve and give blood. Every 2 seconds someone needs blood &ndash\; from heart transplant and cancer patients to accident victims. The need for blood is constant\, but the supply is not. Only volunteer blood donors can make a life-saving difference to someone in need. </span><br />\n&nbsp\;<br />\n<span style="font-size:10.0pt\;">Step up to give blood at a blood drive in your neighborhood and help save lives. Donating blood is convenient and safe when you are healthy\, well and:</span><br />\n&nbsp\;\n<ul>\n	<li style="line-height:115%\;"><span style="font-family:arial\,sans-serif\;"><span style="font-size:10.0pt\;">In good health</span></span></li>\n	<li style="line-height:115%\;"><span style="font-family:arial\,sans-serif\;"><span style="font-size:10.0pt\;">Free of antibiotics for 24 hours\, unless taken daily for skin condition</span></span></li>\n	<li style="line-height:115%\;"><span style="font-family:arial\,sans-serif\;"><span style="font-size:10.0pt\;">Symptom-free for at least 3 days following a cold or a flu</span></span></li>\n	<li style="line-height:115%\;"><span style="font-family:arial\,sans-serif\;"><span style="font-size:10.0pt\;">17 years or older&mdash\;16 with written&nbsp\;parental consent (form available at </span></span><a href="http://www.mbc.org/Donate-Blood/Schedule-Blood-Donation"><span style="font-family:arial\,sans-serif\;"><span style="font-size:10.0pt\;">MBC.ORG</span></span></a><span style="font-family:arial\,sans-serif\;"><span style="font-size:10.0pt\;">)</span></span><br />\n	&nbsp\;</li>\n</ul>\n<span style="font-family:arial\,sans-serif\;"><span style="font-size:10.0pt\;">While walk-in donors are always welcome\, we encourage appointments to be made in advance. To register for a blood drive\, go online to </span></span><a href="http://www.MBC.org"><span style="font-family:arial\,sans-serif\;"><span style="font-size:10.0pt\;">MBC.ORG</span></span></a><span style="font-family:arial\,sans-serif\;"><span style="font-size:10.0pt\;"> or contact the sponsoring organization directly.</span></span>
LOCATION:09/19/16 Knights of Columbus - Wright/Hennepin # 4174 11300 Frankfort Pkwy NE Saint Michael 3:00 pm - 7:00 pm
UID:e.1321.2401
SEQUENCE:3
DTSTAMP:20260421T201312Z
URL:https://business.i94westchamber.org/events/details/blood-drive-knights-of-columbus-09-19-2016-2401
END:VEVENT

END:VCALENDAR
