BEGIN:VCALENDAR
VERSION:2.0
PRODID:-//ChamberMaster//Event Calendar 2.0//EN
METHOD:PUBLISH
X-PUBLISHED-TTL:P3D
REFRESH-INTERVAL:P3D
CALSCALE:GREGORIAN
BEGIN:VEVENT
DTSTART:20161215T163000Z
DTEND:20161215T210000Z
X-MICROSOFT-CDO-ALLDAYEVENT:FALSE
SUMMARY:Blood Drive - Maple Grove Hospital
DESCRIPTION:You have a chance to ride into the New Year on a brand new ATV! Memorial Blood Centers is partnering with Polaris Industries to offer all presenting blood donors during the month of December a chance to win a Polaris ATV.\n\nMaintaining a stable blood supply around the holidays is challenging as many people head out of town to enjoy time with family\, but the need for blood is constant. Every two seconds someone needs blood and patients in local hospitals depend on Memorial Blood Centers to be there with the blood they need to survive. Only volunteer donors can help ensure blood is available.\n\nPlus\, those who present to donate from Tuesday\, December 20\, 2016 through Tuesday\, January 3\, 2017 will also receive a free long-sleeve shirt as an extra thank you.\n\nOnly volunteer blood donors can help save lives. To schedule your life-saving donation today visit MBC.ORG\, call 1-888-GIVE-BLD (1-888-448-3253)\, or contact one of the following blood drive sponsors.
X-ALT-DESC;FMTTYPE=text/html:<span style="font-family:arial\,sans-serif\;"><span style="font-size:10.0pt\;">You have a chance to <strong>ride into the New Year on a brand new ATV</strong>! Memorial Blood Centers is partnering with Polaris Industries to offer all presenting blood donors during the month of December a chance to win a Polaris ATV.</span></span><br />\n<span style="font-family:arial\,sans-serif\;"><span style="font-size:10.0pt\;">Maintaining a stable blood supply around the holidays is challenging as many people head out of town to enjoy time with family\, but the need for blood is constant. Every two seconds someone needs blood and patients in local hospitals depend on Memorial Blood Centers to be there with the blood they need to survive. Only volunteer donors can help ensure blood is available.</span></span><br />\n<span style="font-family:arial\,sans-serif\;"><span style="font-size:10.0pt\;">Plus\, those who present to donate from <strong>Tuesday\,</strong> <strong>December 20\, 2016 through Tuesday\, January 3\, 2017 will also receive a free long-sleeve shirt</strong> as an extra thank you.</span></span><br />\n<span style="font-family:arial\,sans-serif\;"><span style="font-size:10.0pt\;">Only volunteer blood donors can help save lives. To schedule your life-saving donation today visit </span></span><a href="http://www.MBC.org"><span style="font-family:arial\,sans-serif\;"><span style="font-size:10.0pt\;">MBC.ORG</span></span></a><span style="font-family:arial\,sans-serif\;"><span style="font-size:10.0pt\;">\, call 1-888-GIVE-BLD (1-888-448-3253)\, or contact one of the following blood drive sponsors.</span></span>
LOCATION:Maple Grove Hospital 9875 Hospital Drive Maple Grove
UID:e.1321.2533
SEQUENCE:3
DTSTAMP:20260421T172755Z
URL:https://business.i94westchamber.org/events/details/blood-drive-maple-grove-hospital-2533
END:VEVENT

END:VCALENDAR
