BEGIN:VCALENDAR
VERSION:2.0
PRODID:-//ChamberMaster//Event Calendar 2.0//EN
METHOD:PUBLISH
X-PUBLISHED-TTL:P3D
REFRESH-INTERVAL:P3D
CALSCALE:GREGORIAN
BEGIN:VEVENT
DTSTART:20170215T203000Z
DTEND:20170216T010000Z
X-MICROSOFT-CDO-ALLDAYEVENT:FALSE
SUMMARY:Blood Drive Medina
DESCRIPTION:
X-ALT-DESC;FMTTYPE=text/html:
LOCATION:Woodbridge Church 1500 County Road 24 Medina\, MN
UID:e.1321.2602
SEQUENCE:3
DTSTAMP:20260421T143842Z
URL:https://business.i94westchamber.org/events/details/blood-drive-medina-2602
END:VEVENT

END:VCALENDAR
