BEGIN:VCALENDAR
VERSION:2.0
PRODID:-//ChamberMaster//Event Calendar 2.0//EN
METHOD:PUBLISH
X-PUBLISHED-TTL:P3D
REFRESH-INTERVAL:P3D
CALSCALE:GREGORIAN
BEGIN:VEVENT
DTSTART:20141025T130000Z
DTEND:20141025T190000Z
X-MICROSOFT-CDO-ALLDAYEVENT:FALSE
SUMMARY:Book Sale - St. Michael Library
DESCRIPTION:The St. Michael Friends of the Library will have its annual Fall Book Sale on Saturday\, Oct. 25\, 8:00 a.m. to 2:00 p.m. in the St. Michael City Center Council Chambers. Hundreds of books will be available including paperbacks\, hard covers\, children's books and DVDs
X-ALT-DESC;FMTTYPE=text/html:The St. Michael Friends of the Library will have its annual Fall Book Sale on <span class="Object" id="OBJ_PREFIX_DWT494"><span class="Object" id="OBJ_PREFIX_DWT495">Saturday\, Oct. 25</span></span>\, 8:00 a.m. to 2:00 p.m. in the St. Michael City Center Council Chambers. Hundreds of books will be available including paperbacks\, hard covers\, children&rsquo\;s books and DVDs
LOCATION:St. Michael Public Library 11800 Town Center Drive NE Suite 100 St. Michael\, MN 55376
UID:e.1321.1272
SEQUENCE:3
DTSTAMP:20260424T154950Z
URL:https://business.i94westchamber.org/events/details/book-sale-st-michael-library-10-25-2014-1272
END:VEVENT

END:VCALENDAR
