BEGIN:VCALENDAR
VERSION:2.0
PRODID:-//ChamberMaster//Event Calendar 2.0//EN
METHOD:PUBLISH
X-PUBLISHED-TTL:P3D
REFRESH-INTERVAL:P3D
CALSCALE:GREGORIAN
BEGIN:VEVENT
DTSTART:20141102T000000Z
DTEND:20141102T020000Z
X-MICROSOFT-CDO-ALLDAYEVENT:FALSE
SUMMARY:Brain SOZO for Children
DESCRIPTION:NEW!! Class offered at the Center for GRACE: Brain SOZO for Children\n\nDate: Saturday\, November 1st\, 2014\n\nTime: 7:00 pm to 9:00 pm\n...\n\n\nDo you ever wonder why kids repeat the same patterns of choices and behaviors? What are flight or fight behavior patterns? Kids who experience the loss of a sibling and who are grieving or who are going through challenging situations in the home\, often act out as they struggle to manage the strong emotions they are feeling. This class will help you help your children and bring your family unit closer together.\n\nJoin Mia and Patrick Lambertz for keys to how God can restore our minds\, past traumas and bring healing. They have a passion to see people set free from the bondage that sometimes happen in our brains\, especially in children.\n\nREGISTRATION FORM:\n\nhttps://missinggrace.com/org/ClassRegistrationForm.html
X-ALT-DESC;FMTTYPE=text/html:<div class="text_exposed_root text_exposed" id="id_5436894d3c7f76d95045494">\n<p>NEW!! Class offered at the Center for GRACE: Brain SOZO for Children</p>\n\n<p>Date: Saturday\, November 1st\, 2014<br />\nTime: 7:00 pm to 9:00 pm</p>\n<span class="text_exposed_hide">...</span>\n\n<div class="text_exposed_show">\n<p>Do you ever wonder why kids repeat the same patterns of choices and behaviors? What are flight or fight behavior patterns? Kids who experience the loss of a sibling and who are grieving or who are going through challenging situations in the home\, often act out as they struggle to manage the strong emotions they are feeling. This class will help you help your children and bring your family unit closer together.</p>\n\n<p>Join Mia and Patrick Lambertz for keys to how God can restore our minds\, past traumas and bring healing. They have a passion to see people set free from the bondage that sometimes happen in our brains\, especially in children.</p>\n\n<p>REGISTRATION FORM:<br />\n<a href="https://www.facebook.com/l.php?u=https%3A%2F%2Fmissinggrace.com%2Forg%2FClassRegistrationForm.html&amp\;h=HAQE4GK_G&amp\;enc=AZM6bjbpeNhb_Fwt8c7XZ-ULtste_G6zDWVEFpUe5hcqd-9YLdNHcdCzsv9PkzCMcZntmm1896IVDCMGZ6utJ9c90H_d6M4WC-b0nrVyKzT7z5jsVLCf7Mwg6tln5e0-7K64d22dlLvfwqvHJCjx-L-7a31c4YF64hrlEvIL3yA5ZA&amp\;s=1" rel="nofollow" target="_blank"><font color="#0066cc">https://missinggrace.com/org/ClassRegistrationForm.html</font></a></p>\n</div>\n</div>\n
LOCATION:
UID:e.1321.1253
SEQUENCE:3
DTSTAMP:20260424T141516Z
URL:https://business.i94westchamber.org/events/details/brain-sozo-for-children-11-01-2014-1253
END:VEVENT

END:VCALENDAR
