BEGIN:VCALENDAR
VERSION:2.0
PRODID:-//ChamberMaster//Event Calendar 2.0//EN
METHOD:PUBLISH
X-PUBLISHED-TTL:P3D
REFRESH-INTERVAL:P3D
CALSCALE:GREGORIAN
BEGIN:VEVENT
DTSTART:20220908T140000Z
DTEND:20220908T150000Z
X-MICROSOFT-CDO-ALLDAYEVENT:FALSE
SUMMARY:Breakfast Club at Village Inn Maple Grove (Granite City)
DESCRIPTION:Start your day with us at Breakfast Club! This is a great opportunity in an informal setting to connect and network with fellow chamber members and learn about updates in the business community. Of course we'll also enjoy a delicious breakfast at a Chamber member restaurant!
X-ALT-DESC;FMTTYPE=text/html:Start your day with us at Breakfast Club! This is a great opportunity in an informal setting to connect and network with fellow chamber members and learn about updates in the business community. Of course we&#39\;ll also enjoy a delicious breakfast at a Chamber member restaurant!&nbsp\;
LOCATION:Village Inn Maple Grove (Granite City)
UID:e.1321.7419
SEQUENCE:3
DTSTAMP:20260421T144334Z
URL:https://business.i94westchamber.org/events/details/breakfast-club-at-village-inn-maple-grove-granite-city-7419
END:VEVENT

END:VCALENDAR
