BEGIN:VCALENDAR
VERSION:2.0
PRODID:-//ChamberMaster//Event Calendar 2.0//EN
METHOD:PUBLISH
X-PUBLISHED-TTL:P3D
REFRESH-INTERVAL:P3D
CALSCALE:GREGORIAN
BEGIN:VEVENT
DTSTART:20161219T030000Z
DTEND:20161218T180000Z
X-MICROSOFT-CDO-ALLDAYEVENT:FALSE
SUMMARY:Breakfast & Pictures with Santa at Boonbox
DESCRIPTION:Buffet Breakfast\, Picture with Santa\, Kids Crafts
X-ALT-DESC;FMTTYPE=text/html:Buffet Breakfast\, Picture with Santa\, Kids Crafts
LOCATION:BOONDOX BAR & GRILLE Back 40 Event Center 9100 Park Ave NE\, Elk River\, MN 55330
UID:e.1321.2583
SEQUENCE:3
DTSTAMP:20260421T155524Z
URL:https://business.i94westchamber.org/events/details/breakfast-pictures-with-santa-at-boonbox-2583
END:VEVENT

END:VCALENDAR
