BEGIN:VCALENDAR
VERSION:2.0
PRODID:-//ChamberMaster//Event Calendar 2.0//EN
METHOD:PUBLISH
X-PUBLISHED-TTL:P3D
REFRESH-INTERVAL:P3D
CALSCALE:GREGORIAN
BEGIN:VEVENT
DTSTART:20151205T143000Z
DTEND:20151205T170000Z
X-MICROSOFT-CDO-ALLDAYEVENT:FALSE
SUMMARY:Breakfast with Santa
DESCRIPTION:The Crisis Nursery serving Wright County will be hosting a breakfast with Santa event at Huikko's Entertainment Center in Buffalo\, MN on Saturday\, December 5th. The event will include a delicious breakfast\, a bake sale\, craft sale and FREE pictures with Santa provided by Little Love Photography. Tickets for the event at $10 for Adults and $5 for Children 10 and under. Tickets can be purchased prior to or the day of the event at Huikko's Entertainment Center\, The Crisis Nursery serving Wright County Office or Kids Haven in Buffalo\, MN. If you are looking to help out wit the event we are always looking for volunteers\, or people to bake for the bake sale! For more information please call 763-271-1674. More details to follow!
X-ALT-DESC;FMTTYPE=text/html:<span class="fsl">The Crisis Nursery serving Wright County will be hosting a breakfast with Santa event at Huikko&#39\;s Entertainment Center in Buffalo\, MN on Saturday\, December 5th. The event will include a delicious breakfast\, a bake sale\, craft sale and FREE pictures with Santa provided by Little Love Photography. Tickets for the event at $10 for Adults and $5 for Children 10 and under. Tickets can be purchased prior to or the day of the event at Huikko&#39\;s Entertainment Center\, The Crisis Nursery serving Wright County Office or Kids Haven in Buffalo\, MN. If you are looking to help out wit the event we are always looking for volunteers\, or people to bake for the bake sale! For more information please call 763-271-1674. More details to follow!</span>
LOCATION:Huikko's Bowling and Entertainment Center 1207 Highway 25 N\, Buffalo\, Minnesota 55313
UID:e.1321.1823
SEQUENCE:3
DTSTAMP:20260422T082608Z
URL:https://business.i94westchamber.org/events/details/breakfast-with-santa-12-05-2015-1823
END:VEVENT

END:VCALENDAR
