BEGIN:VCALENDAR
VERSION:2.0
PRODID:-//ChamberMaster//Event Calendar 2.0//EN
METHOD:PUBLISH
X-PUBLISHED-TTL:P3D
REFRESH-INTERVAL:P3D
CALSCALE:GREGORIAN
BEGIN:VEVENT
DTSTART:20161204T140000Z
DTEND:20161204T190000Z
X-MICROSOFT-CDO-ALLDAYEVENT:FALSE
SUMMARY:Breakfast with Santa
DESCRIPTION:Join us for our annual Breakfast with Santa! We'll be serving up pancakes & French toast with all the fixings.\n\n\n\nFree-will donation - all proceeds go to CROSS Services food shelf.\n\n\n\nKids - bring in a canned food donation for the food shelf and receive a free picture with Santa.\n\n\n\nEnter for you chance to win a 50" HD TV ($5 per ticket). Drawing will be held on Sunday\, December 4. Need not be present to win.
X-ALT-DESC;FMTTYPE=text/html:<span class="_4n-j fsl">Join us for our annual Breakfast with Santa! We&rsquo\;ll be serving up pancakes &amp\; French toast with all the fixings.<br />\n<br />\nFree-will donation - all proceeds go to <a data-hovercard="/ajax/hovercard/page.php?id=741172259250513&amp\;extragetparams=%7B%22directed_target_id%22%3A418267218562235%7D" href="https://www.facebook.com/CROSS-Services-741172259250513/">CROSS Services</a> food shelf.<br />\n<br />\nKids - bring in a canned food donation for the food shelf and receive a free picture with Santa.<br />\n<br />\nEnter for you chance to win a 50&quot\; HD TV ($5 per ticket). Drawing will be held on Sunday\, December 4. Need not be present to win.</span>
LOCATION:Rogers Community Center 21201 Memorial Dr.\, Rogers\, Minnesota 55374
UID:e.1321.2570
SEQUENCE:3
DTSTAMP:20260421T171606Z
URL:https://business.i94westchamber.org/events/details/breakfast-with-santa-2570
END:VEVENT

END:VCALENDAR
