BEGIN:VCALENDAR
VERSION:2.0
PRODID:-//ChamberMaster//Event Calendar 2.0//EN
METHOD:PUBLISH
X-PUBLISHED-TTL:P3D
REFRESH-INTERVAL:P3D
CALSCALE:GREGORIAN
BEGIN:VEVENT
DTSTART:20220915T210000Z
DTEND:20220915T230000Z
X-MICROSOFT-CDO-ALLDAYEVENT:FALSE
SUMMARY:Business\, Bites & Beverages at Maynards
DESCRIPTION:Join fellow chamber members for Business\, Bites & Beverages. This is a great opportunity to share stories and learn about local business! Oh\, and enjoy a cold beverage!
X-ALT-DESC;FMTTYPE=text/html:Join fellow chamber members for Business\, Bites &amp\; Beverages. This is a great opportunity to share stories and learn about local business! Oh\, and enjoy a cold beverage!
LOCATION:Maynards\, Rogers
UID:e.1321.7421
SEQUENCE:3
DTSTAMP:20260421T131443Z
URL:https://business.i94westchamber.org/events/details/business-bites-beverages-at-maynards-7421
END:VEVENT

END:VCALENDAR
