BEGIN:VCALENDAR
VERSION:2.0
PRODID:-//ChamberMaster//Event Calendar 2.0//EN
METHOD:PUBLISH
X-PUBLISHED-TTL:P3D
REFRESH-INTERVAL:P3D
CALSCALE:GREGORIAN
BEGIN:VEVENT
DTSTART:20170420T130000Z
DTEND:20170420T141500Z
X-MICROSOFT-CDO-ALLDAYEVENT:FALSE
SUMMARY:Business & Community Excellence Awards
DESCRIPTION:We are so pleased to welcome you to the 6th Annual Business & Community Excellence Awards! \n\n \n\nToday we come  together to recognize some of our region's finest leaders and future leaders in our award nominees and local scholarship recipients. We are proud of the individuals\, businesses\, and organizations of the I-94 West region and are proud to honor them today.\n\n\n\nKEYNOTE SPEAKER:\n\nBrent Goedel \n\nCould a Data Breach Cost you your business?  \n\n\n\nAnd the nominees are:\n\nLeadership  Presented by 21st Century Bank\n\nMichael Altimari - J & B Group\n\nDavid Henningson - Henningson & Snoxell\n\nSandy Greninger - FYCC\n\n\n\nInnovation Presented by: Guardian Angels Senior Services\n\nBauer Design Build\n\nJet Edge\, Inc\n\nClam\n\nRapha Health & Wellness\n\nPeabody Players\n\n\n\nLifetime Achievement - Presented by Henningson & Snoxell\n\nMarilyn Bina - Prime Advertising\n\n\n\nCommunity Award - Metro Dentalcare Albertville\n\nMarksman Metals\n\nHealthSource of Rogers\n\nThe Vision Companies\n\nHealthSource of Albertville\n\nKleinBank\n\n\n\nBusiness Person of the Year - Comfort Matters Heating & Cooling\n\nElizabeth Johnson - CROSS\n\nJarrod Peterson - Edina Realty\n\nPaul Kleinwachter - Farmers State Bank\n\n\n\nYoung Professional of the Year - Presented by Gries\, Lenhardt\,& Allen\n\nKyle Sabot - Rogers Printing\n\nDr. Brittany Van Overbeke - HealthSource of Rogers\n\nChrista Jordahl - National Karate Academy - Albertville\n\nKelly Eull - Henningson & Snoxell\n\n\n\nPhilanthropy through Non-Profit - Presented by MidWestOne Bank\n\nRogers Lions Club\n\nWright County Crisis Nursery\n\nCROSS\n\nFYCC\n\n\n\nMilestone\n\n1ST National Bank of Elk River - 115 years\n\n21st Century Bank - 100 years\n\nC. Emery Nelson - 95 years\n\nWright-Hennepin Cooperative Electric Association - 80 years\n\nThree Rivers Fitness - 5 years\n\nJordan's Crane & Rigging - 30 years\n\nGreenscape Companies - 25 years\n\nKleinBank - 110 years\n\nDecimet Sales - 35 years\n\nDalheimer Machining - 30 years\n\nCanvas Craft - 40 years\n\n101 Market - 20 years\n\nCROSS - 40 years\n\nScrambled Eggs & Bacon\n\nHash Browns & Home Fries\n\nFruit\n\nAssorted Danish\, Muffins\, & Cinnamon Rolls\n\nCoffee\, Tea\, OJ
X-ALT-DESC;FMTTYPE=text/html:<span style="font-family:verdana\;"><span style="font-style: italic\;"><span style="font-size: 14pt\;">We are so pleased to welcome you to the 6th Annual Business </span></span><span style="font-style: italic\;"><span style="font-size: 14pt\;">&amp\;</span></span><span style="font-style: italic\;"><span style="font-size: 14pt\;"> Community Excellence Awards! </span></span><br />\n&nbsp\;<br />\n<span style="font-style: italic\;"><span style="font-size: 14pt\;">Today we come&nbsp\; together to recognize some of <em>our region&#39\;s finest leaders and future leaders in our award nominees and local scholarship recipients. We are proud of the individuals\, businesses\, and organizations of the I-94 West region and are proud to honor them today.</em></span></span></span><br />\n<br />\n<span style="font-size:14px\;">KEYNOTE SPEAKER:<br />\nBrent Goedel </span><br />\n<span style="color:#1F497D\;"><span style="font-family:calibri\,sans-serif\;"><span style="font-size:11.0pt\;">Could</span></span></span><span style="color:#1F497D\;"><span style="font-family:calibri\,sans-serif\;"><span style="font-size:11.0pt\;"> a Data Breach Cost you your business?&nbsp\; </span></span></span><br />\n<br />\n<span style="font-size:14px\;">And the nominees are:<br />\n<u><em><strong>Leadership</strong></em></u>&nbsp\; <strong><em>Presented by 21st Century Bank</em></strong><br />\nMichael Altimari - J &amp\; B Group<br />\nDavid Henningson - Henningson &amp\; Snoxell<br />\nSandy Greninger - FYCC<br />\n<br />\n<u><em><strong>Innovation</strong></em></u> <em><strong>Presented by: Guardian Angels Senior Services</strong></em><br />\nBauer Design Build<br />\nJet Edge\, Inc<br />\nClam<br />\nRapha Health &amp\; Wellness<br />\nPeabody Players<br />\n<br />\n<u><em><strong>Lifetime Achievement</strong></em></u> - <em><strong>Presented by Henningson &amp\; Snoxell</strong></em><br />\nMarilyn Bina - Prime Advertising<br />\n<br />\n<u><em><strong>Community Award</strong></em></u> - <em><strong>Metro Dentalcare Albertville</strong></em><br />\nMarksman Metals<br />\nHealthSource of Rogers<br />\nThe Vision Companies<br />\nHealthSource of Albertville<br />\nKleinBank<br />\n<br />\n<u><em><strong>Business Person of the Year</strong></em></u> -<em><strong> Comfort Matters Heating &amp\; Cooling</strong></em><br />\nElizabeth Johnson - CROSS<br />\nJarrod Peterson - Edina Realty<br />\nPaul Kleinwachter - Farmers State Bank<br />\n<br />\n<strong>Young Professional of the Year</strong> - <em><strong>Presented by Gries\, Lenhardt\,&amp\; Allen</strong></em><br />\nKyle Sabot - Rogers Printing<br />\nDr. Brittany Van Overbeke - HealthSource of Rogers<br />\nChrista Jordahl - National Karate Academy - Albertville<br />\nKelly Eull - Henningson &amp\; Snoxell<br />\n<br />\n<u><em><strong>Philanthropy through Non-Profit</strong></em></u> - <em><strong>Presented by MidWestOne Bank</strong></em><br />\nRogers Lions Club<br />\nWright County Crisis Nursery<br />\nCROSS<br />\nFYCC<br />\n<br />\n<u><em><strong>Milestone</strong></em></u><br />\n1ST National Bank of Elk River - 115 years<br />\n21st Century Bank - 100 years<br />\nC. Emery Nelson - 95 years<br />\nWright-Hennepin Cooperative Electric Association - 80 years<br />\nThree Rivers Fitness - 5 years<br />\nJordan&#39\;s Crane &amp\; Rigging - 30 years<br />\nGreenscape Companies - 25 years<br />\nKleinBank - 110 years<br />\nDecimet Sales - 35 years<br />\nDalheimer Machining - 30 years<br />\nCanvas Craft - 40 years<br />\n101 Market - 20 years<br />\nCROSS - 40 years<br />\n<em>Scrambled Eggs &amp\; Bacon<br />\nHash Browns &amp\; Home Fries<br />\nFruit<br />\nAssorted Danish\, Muffins\, &amp\; Cinnamon Rolls<br />\nCoffee\, Tea\, OJ</em><br />\n<br />\n<br />\n&nbsp\;</span><br />\n&nbsp\;
LOCATION:Medina Golf & Country Club 400 Evergreen Rd\, Medina\, MN 55340
UID:e.1321.2420
SEQUENCE:3
DTSTAMP:20260421T100202Z
URL:https://business.i94westchamber.org/events/details/business-community-excellence-awards-2420
END:VEVENT

END:VCALENDAR
