BEGIN:VCALENDAR
VERSION:2.0
PRODID:-//ChamberMaster//Event Calendar 2.0//EN
METHOD:PUBLISH
X-PUBLISHED-TTL:P3D
REFRESH-INTERVAL:P3D
CALSCALE:GREGORIAN
BEGIN:VEVENT
DTSTART:20161208T140000Z
DTEND:20161208T160000Z
X-MICROSOFT-CDO-ALLDAYEVENT:FALSE
SUMMARY:Business Institute - Business in Public Policy & Politics
DESCRIPTION:Class 4 12/8/2016 (8am to 10am)\n\nBusiness in Public Policy and Politics (8am to 9am)\n\nCarl Kuhl\, Connolly Kuhl Group\n\nBusiness in Public Policy & Politics   Hubert Humphrey once said "Government will either to things to you or for you\, but its gonna do something."  Minnesota's business community knows this all too well\, our federal\, state and local governments are generally doing something "to you."  We'll examine how our government makes decisions and how you can become an effective advocate for your business and Minnesota's business climate. \n\n \n\n \n\nCommunications Breakthrough (9am to 10am)\n\nAdam Thompson\, FocalPoint\n\nIn any professional or personal relationship\, effective communication is key to success\, and effective communication starts\, and ends\, with non-verbal communication. In Communications Breakthrough\, we will study the four main behavioral and communications styles that exist\, and how to identify them in individuals based on visual cues\, the environment around you\, and other non-verbal clues. You will learn how people who fall into the various styles communicate\, and how they prefer to be communicated to. Knowing your style and recognizing the styles of those around you is key to improving your leadership\, management and sales skills\; Communications Breakthrough will help you develop that skill.
X-ALT-DESC;FMTTYPE=text/html:<span style="font-weight:bold\;language:en-US\;"><span style="color:#C00000\;"><span style="font-family:century gothic\;"><span style="font-size:16.0pt\;">Class 4&mdash\;12/8/2016 (8am to 10am)</span></span></span></span><br />\n<span style="text-decoration:underline\;text-underline:single\;font-weight:bold\;language:en-US\;"><span style="color:black\;"><span style="font-family:century gothic\;"><span style="font-size:12.0pt\;">Business in Public Policy and Politics (8am to 9am)</span></span></span></span><br />\n<span style="language:en-US\;"><span style="color:black\;"><span style="font-family:century gothic\;"><span style="font-size:12.0pt\;">Carl Kuhl\, Connolly Kuhl Group</span></span></span></span><br />\n<span style="language:en-US\;"><span style="color:black\;"><span style="font-family:century gothic\;"><span style="font-size:11.0pt\;">Business in Public Policy &amp\; Politics &ndash\; Hubert Humphrey once said &ldquo\;Government will either to things to you or for you\, but its gonna do something.&rdquo\;&nbsp\; Minnesota&rsquo\;s business community knows this all too well\, our federal\, state and local governments are generally doing something &ldquo\;to you.&rdquo\;&nbsp\; We&rsquo\;ll examine how our government makes decisions and how you can become an effective advocate for your business and Minnesota&rsquo\;s business climate. </span></span></span></span><br />\n&nbsp\;<br />\n&nbsp\;<br />\n<span style="text-decoration:underline\;text-underline:single\;font-weight:bold\;language:en-US\;"><span style="color:black\;"><span style="font-family:century gothic\;"><span style="font-size:12.0pt\;">Communications Breakthrough (9am to 10am)</span></span></span></span><br />\n<span style="language:en-US\;"><span style="color:black\;"><span style="font-family:century gothic\;"><span style="font-size:12.0pt\;">Adam Thompson\, FocalPoint</span></span></span></span><br />\n<span style="language:en-US\;"><span style="font-family:century gothic\;"><span style="font-size:11.0pt\;">In any professional or personal relationship\, effective communication is key to success\, and effective communication starts\, and ends\, with non-verbal communication. In Communications Breakthrough\, we will study the four main behavioral and communications styles that exist\, and how to identify them in individuals based on visual cues\, the environment around you\, and other non-verbal clues. You will learn how people who fall into the various styles communicate\, and how they prefer to be communicated to. Knowing your style and recognizing the styles of those around you is key to</span></span></span><span style="language:en-US\;"><span style="color:black\;"><span style="font-family:century gothic\;"><span style="font-size:11.0pt\;">&nbsp\;improving your leadership\, management and sales skills\; Communications Breakthrough will help you develop that skill.</span></span></span></span><br />\n&nbsp\;<br />\n&nbsp\;\n<p style="font-size: 10pt\; line-height: 1.5em\; margin-right: 0in\; margin-left: 0in\; font-family: Times\; color: rgb(0\, 0\, 0)\; font-style: normal\; font-variant: normal\; font-weight: normal\; letter-spacing: normal\; orphans: auto\; text-align: start\; text-indent: 0px\; text-transform: none\; white-space: normal\; widows: 1\; word-spacing: 0px\; -webkit-text-stroke-width: 0px\; background-color: rgb(255\, 255\, 255)\;">&nbsp\;<br />\n&nbsp\;</p>\n
LOCATION:Albertville City Hall 5959 Main Ave NE\, Albertville\, MN 55301
UID:e.1321.2382
SEQUENCE:3
DTSTAMP:20260421T155928Z
URL:https://business.i94westchamber.org/events/details/business-institute-business-in-public-policy-politics-12-08-2016-2382
END:VEVENT

END:VCALENDAR
