BEGIN:VCALENDAR
VERSION:2.0
PRODID:-//ChamberMaster//Event Calendar 2.0//EN
METHOD:PUBLISH
X-PUBLISHED-TTL:P3D
REFRESH-INTERVAL:P3D
CALSCALE:GREGORIAN
BEGIN:VEVENT
DTSTART:20170110T140000Z
DTEND:20170110T160000Z
X-MICROSOFT-CDO-ALLDAYEVENT:FALSE
SUMMARY:Business Institute - Emotional Intelligence
DESCRIPTION:Class 5 01/10/2017  8am to 10am\n\nEmotional Intelligence\n\nKit Welchin\, National Speakers Association\n\nThe five components that make up emotional intelligence are self-awareness\, self-regulation\, motivation\, empathy\, and social skill. With the rough and tumble world of work\, having negative thoughts and feelings is unavoidable. However\, if we understand and expand our Emotional Intelligence capabilities\, we will be able to overcome the negative thoughts and feelings\, and learn to act in a way that reflects our values\, rather than what we are feeling at the moment.
X-ALT-DESC;FMTTYPE=text/html:<p><span style="font-weight:bold\;language:en-US\;"><span style="color:#C00000\;"><span style="font-family:century gothic\;"><span style="font-size:16.0pt\;">Class 5&mdash\;01/10/2017&nbsp\; 8am to 10am</span></span></span></span><br />\n<span style="text-decoration:underline\;text-underline:single\;font-weight:bold\;language:en-US\;"><span style="color:black\;"><span style="font-family:century gothic\;"><span style="font-size:12.0pt\;">Emotional Intelligence</span></span></span></span><br />\n<span style="language:en-US\;"><span style="color:black\;"><span style="font-family:century gothic\;"><span style="font-size:12.0pt\;">Kit Welchin\, National Speakers Association</span></span></span></span><br />\n<span style="language:en-US\;"><span style="font-family:century gothic\;"><span style="font-size:11.0pt\;">The five components that make up emotional intelligence are self-awareness\, self-regulation\, motivation\, empathy\, and social skill. With the rough and tumble world of work\, having negative thoughts and feelings is unavoidable. However\, if we understand and expand our Emotional Intelligence capabilities\, we will be able to overcome the negative thoughts and feelings\, and learn to act in a way that reflects our values\, rather than what we are feeling at the moment.</span></span></span><br />\n&nbsp\;</p>\n
LOCATION:St. Michael City Center\, 11800 Town Center Drive NE St. Michael.
UID:e.1321.2381
SEQUENCE:3
DTSTAMP:20260421T144144Z
URL:https://business.i94westchamber.org/events/details/business-institute-emotional-intelligence-01-10-2017-2381
END:VEVENT

END:VCALENDAR
