BEGIN:VCALENDAR
VERSION:2.0
PRODID:-//ChamberMaster//Event Calendar 2.0//EN
METHOD:PUBLISH
X-PUBLISHED-TTL:P3D
REFRESH-INTERVAL:P3D
CALSCALE:GREGORIAN
BEGIN:VEVENT
DTSTART:20170223T173000Z
DTEND:20170223T190000Z
X-MICROSOFT-CDO-ALLDAYEVENT:FALSE
SUMMARY:Business Institute - Holly Hoffman CBS' Survivor Nicaragua
DESCRIPTION:With over five years of experience\, Holly travels across the country and is proud to have been to 16 states\, speaking to schools and universities\, healthcare organizations\, women's organizations\, community leaders and business professionals\, inspiring audiences to take opportunities and focus on faith\, attitude\, determination\, confidence\, desire\, and perseverance.
X-ALT-DESC;FMTTYPE=text/html:<p>&nbsp\;</p>\n\n<p style="text-align: center\;"><span style="color: #ff00ff\;"><strong>With over five years of experience\,</strong> Holly travels across the country and is proud to have been to 16&nbsp\;states\, speaking to schools and universities\, healthcare organizations\, women&rsquo\;s organizations\, community leaders and business professionals\, inspiring audiences to take opportunities and focus on faith\, attitude\, determination\, confidence\, desire\, and perseverance.</span></p>\n
LOCATION:Rush Creek Golf Club 7801 County Rd 101\, Maple Grove\, MN 55311
UID:e.1321.2418
SEQUENCE:3
DTSTAMP:20260421T131837Z
URL:https://business.i94westchamber.org/events/details/business-institute-holly-hoffman-cbs-survivor-nicaragua-2418
END:VEVENT

END:VCALENDAR
