BEGIN:VCALENDAR
VERSION:2.0
PRODID:-//ChamberMaster//Event Calendar 2.0//EN
METHOD:PUBLISH
X-PUBLISHED-TTL:P3D
REFRESH-INTERVAL:P3D
CALSCALE:GREGORIAN
BEGIN:VEVENT
DTSTART:20170214T140000Z
DTEND:20170214T160000Z
X-MICROSOFT-CDO-ALLDAYEVENT:FALSE
SUMMARY:Business Institute - Servant Leadership
DESCRIPTION:Class 6  02/14/2017 (8am to 10:00am)\n\n\n\nServant Leadership\n\nPatty Sagert\, Rasmussen College\n\nMaking the middle matter - learn how servant-leadership can prepare and guide you and your leadership journey.  This presentation will provide the 10 characteristics of servant-leadership and how you can make a positive impact as a leader.\n\n\n\n"The SEO Expert"\n\nBrian Johnson\, Precision SEO Marketing
X-ALT-DESC;FMTTYPE=text/html:<span style="font-weight:bold\;language:en-US\;"><span style="color:#C00000\;"><span style="font-family:century gothic\;"><span style="font-size:16.0pt\;">Class 6&ndash\; 02/14/2017 (8am to 10:00am)</span></span></span></span><br />\n<br />\n<span style="text-decoration:underline\;text-underline:single\;font-weight:bold\;language:en-US\;"><span style="color:black\;"><span style="font-family:century gothic\;"><span style="font-size:12.0pt\;">Servant Leadership</span></span></span></span><br />\n<span style="language:en-US\;"><span style="color:black\;"><span style="font-family:century gothic\;"><span style="font-size:11.0pt\;">Patty Sagert\, Rasmussen College</span></span></span></span><br />\n<span style="language:en-US\;"><span style="color:black\;"><span style="font-family:century gothic\;"><span style="font-size:11.0pt\;">Making the middle matter - learn how servant-leadership can prepare and guide you and your leadership journey. &nbsp\;This presentation will provide the 10 characteristics of servant-leadership and how you can make a positive impact as a leader.<br />\n<br />\n<u>&quot\;The SEO Expert&quot\;</u><br />\nBrian Johnson\, Precision SEO Marketing</span></span></span></span><br />\n<br />\n<br />\n<br />\n&nbsp\;<br />\n&nbsp\;<br />\n&nbsp\;
LOCATION:Rasmussen College 8301 93rd Ave N\, Brooklyn Park\, MN 55445
UID:e.1321.2383
SEQUENCE:3
DTSTAMP:20260421T144151Z
URL:https://business.i94westchamber.org/events/details/business-institute-servant-leadership-02-14-2017-2383
END:VEVENT

END:VCALENDAR
