BEGIN:VCALENDAR
VERSION:2.0
PRODID:-//ChamberMaster//Event Calendar 2.0//EN
METHOD:PUBLISH
X-PUBLISHED-TTL:P3D
REFRESH-INTERVAL:P3D
CALSCALE:GREGORIAN
BEGIN:VEVENT
DTSTART:20160315T200000Z
DTEND:20160315T213000Z
X-MICROSOFT-CDO-ALLDAYEVENT:FALSE
SUMMARY:Business Institute - Social Media & Marketing
DESCRIPTION:Social Media & Marketing\n\nwith Mark Murray\,\n\nPresident/CEO\, Prime Advertising & Design\n\nTuesday\, March 15\, 2016\n\n3:00 pm to 4:30 pm\n\nPrime Advertising\n\nMaple Grove\, MN\n\n \n\n \n\nThe digital and electronic world is changing at such a rapid pace that it's a full time job just to keep up. And when you have a business to run\, you don't always have the time to not only keep up\, but more importantly\, to make intelligent decisions about how\, when\, where and of course\, how much.  Join us for this informational class to keep your business updated on the latest and greatest.\n\n \n\n \n\nAbout Prime Advertising and Design:\n\nPrime Advertising is your one-stop\, full-service marketing agency with decades of experience creating successful campaigns of hundreds of local\, national\, and international companies\, organizations\, and non-profits of all sizes. Their specialization in web\, multimedia\, print\, and community marketing allows them to deliver comprehensive strategy\, design\, distribution\, and marketing services that align with your goals and objectives.
X-ALT-DESC;FMTTYPE=text/html:<span style="font-weight:bold\;language:en-US\;"><span style="color:black\;"><span style="font-family:century gothic\;"><span style="font-size:20.0pt\;">Social Media &amp\; Marketing</span></span></span></span><br />\n<span style="language:en-US\;"><span style="color:black\;"><span style="font-family:century gothic\;"><span style="font-size:14.0pt\;">with Mark Murray\,</span></span></span></span><br />\n<span style="language:en-US\;"><span style="color:black\;"><span style="font-family:century gothic\;"><span style="font-size:14.0pt\;">President/CEO\, Prime Advertising &amp\; Design</span></span></span></span><br />\n<span style="language:en-US\;"><span style="color:black\;"><span style="font-family:century gothic\;"><span style="font-size:12.0pt\;">Tuesday\, March 15\, 2016</span></span></span></span><br />\n<span style="language:en-US\;"><span style="color:black\;"><span style="font-family:century gothic\;"><span style="font-size:12.0pt\;">3:00 pm to 4:30 pm</span></span></span></span><br />\n<span style="language:en-US\;"><span style="color:black\;"><span style="font-family:century gothic\;"><span style="font-size:12.0pt\;">Prime Advertising<br />\nMaple Grove\, MN</span></span></span></span><br />\n&nbsp\;<br />\n&nbsp\;<br />\n<span style="language:en-US\;"><span style="font-family:century gothic\;"><span style="font-size:11.0pt\;">The digital and electronic world is changing at such a rapid pace that it&#39\;s a full time job just to keep up. And when you have a business to run\, you don&#39\;t always have the time to not only keep up\, but more importantly\, to make intelligent decisions about how\, when\, where and of course\, how&nbsp\;much.&nbsp\; Join us for this informational class to keep your business updated on the latest and greatest.</span></span></span><br />\n&nbsp\;<br />\n&nbsp\;<br />\n<span style="font-weight:bold\;language:en-US\;"><span style="font-family:century gothic\;"><span style="font-size:11.0pt\;">About Prime Advertising and Design:</span></span></span><br />\n<span style="language:en-US\;"><span style="font-family:century gothic\;"><span style="font-size:11.0pt\;">Prime Advertising is your one-stop\, full-service marketing agency with decades of experience creating successful campaigns of hundreds of local\, national\, and international companies\, organizations\, and non-profits of all sizes. Their specialization in web\, multimedia\, print\, and community marketing allows them to deliver comprehensive strategy\, design\, distribution\, and marketing services that align with your goals and objectives.</span></span></span><br />\n&nbsp\;<br />\n&nbsp\;
LOCATION:Prime Advertising & Design 6450 Wedgwood Rd N #100 Maple Grove\, MN
UID:e.1321.1659
SEQUENCE:3
DTSTAMP:20260422T042210Z
URL:https://business.i94westchamber.org/events/details/business-institute-social-media-marketing-03-15-2016-1659
END:VEVENT

END:VCALENDAR
