BEGIN:VCALENDAR
VERSION:2.0
PRODID:-//ChamberMaster//Event Calendar 2.0//EN
METHOD:PUBLISH
X-PUBLISHED-TTL:P3D
REFRESH-INTERVAL:P3D
CALSCALE:GREGORIAN
BEGIN:VEVENT
DTSTART:20161108T140000Z
DTEND:20161108T160000Z
X-MICROSOFT-CDO-ALLDAYEVENT:FALSE
SUMMARY:Business Institute - Strengths Based Leadership
DESCRIPTION:Class 3   11/8/2016 (8am to 10am)\n\nStrengths Based Leadership\n\nNaomi Mogard\, Rasmussen College\n\n8301 93rd Avenue North  / Brooklyn Park\, MN 55445\n\nIn this session we will explore Strength Based Leadership. Learn tips to discover your own strengths and guide those around you to do the same. Become a more effective leader by surrounding yourself with the right people and learn to maximize your teams. \n\n \n\n \n\n \n\n"How to Foster a Customer Centric Team"\n\nMichael Hofeldt\, Rasmussen College
X-ALT-DESC;FMTTYPE=text/html:<span style="font-weight:bold\;language:en-US\;"><span style="color:#C00000\;"><span style="font-family:century gothic\;"><span style="font-size:16.0pt\;">Class 3 &ndash\; 11/8/2016 (8am to 10am)</span></span></span></span><br />\n<span style="text-decoration:underline\;text-underline:single\;font-weight:bold\;language:en-US\;"><span style="color:black\;"><span style="font-family:century gothic\;"><span style="font-size:12.0pt\;">Strengths Based Leadership</span></span></span></span><br />\n<span style="language:en-US\;"><span style="color:black\;"><span style="font-family:century gothic\;"><span style="font-size:12.0pt\;">Naomi Mogard\, Rasmussen College</span></span></span></span><br />\n<span style="font-weight:bold\;language:en-US\;"><span style="color:#00B050\;"><span style="font-family:century gothic\;"><span style="font-size:12.0pt\;">8301 93rd Avenue North&nbsp\; / Brooklyn Park\, MN 55445</span></span></span></span><br />\n<span style="language:en-US\;"><span style="color:black\;"><span style="font-family:century gothic\;"><span style="font-size:11.0pt\;">In this session we will explore Strength Based Leadership. Learn tips to discover your own strengths and guide those around you to do the same. Become a more effective leader by surrounding yourself with the right people and learn to maximize your teams. </span></span></span></span><br />\n&nbsp\;<br />\n&nbsp\;<br />\n&nbsp\;<br />\n<span style="text-decoration:underline\;text-underline:single\;font-weight:bold\;language:en-US\;"><span style="color:black\;"><span style="font-family:century gothic\;"><span style="font-size:11.0pt\;">&ldquo\;How to Foster a Customer Centric Team&rdquo\;</span></span></span></span><br />\n<span style="language:en-US\;"><span style="color:black\;"><span style="font-family:century gothic\;"><span style="font-size:11.0pt\;">Michael Hofeldt\, Rasmussen College</span></span></span></span><br />\n&nbsp\;<br />\n&nbsp\;<br />\n&nbsp\;
LOCATION:Rasmussen College 8301 93rd Ave N Brooklyn Park\, MN 55445
UID:e.1321.2380
SEQUENCE:3
DTSTAMP:20260421T173718Z
URL:https://business.i94westchamber.org/events/details/business-institute-strengths-based-leadership-11-08-2016-2380
END:VEVENT

END:VCALENDAR
