BEGIN:VCALENDAR
VERSION:2.0
PRODID:-//ChamberMaster//Event Calendar 2.0//EN
METHOD:PUBLISH
X-PUBLISHED-TTL:P3D
REFRESH-INTERVAL:P3D
CALSCALE:GREGORIAN
BEGIN:VEVENT
DTSTART:20130501T163000Z
DTEND:20130501T183000Z
X-MICROSOFT-CDO-ALLDAYEVENT:FALSE
SUMMARY:Business Priorities Luncheon Series
DESCRIPTION:2013 \n\nBusiness Priorities\n\nLuncheon Series\n\nA unique opportunity to meet with senior leaders from around the region and hear from an expert from Minnesota's business community\n\n \n\nWednesday\, May 1\, 2013\n\n11:30 am to 1:30 pm\n\nThe Crown Room at the Wellstead of Rogers\n\n20500 South Diamond Lake Road\, Rogers\n\n\n\nOur Guest Speaker:\n\nMark Haveman\, Executive Director of the Minnesota Center for Fiscal Excellence\n\n(formerly the Minnesota Taypayers Association)\n\n \n\n \n\nAgenda\n\n11:30 - Registration and Networking with our communities' senior leaders\n\n12:00 - Lunch \n\n12:30 - Mark Haveman: "How the 2013 Session will Impact Business" \n\n \n\n \n\nCost:\n\nMember - $25 :: Non-Member - $40\n\n \n\nRSVP by Friday\, April 26\, 2013\n\nphone: 763-428-2921 - fax: 763-428-9068 \n\nemail: ahandshaw@i94westchamber.org
X-ALT-DESC;FMTTYPE=text/html:<span style="language:en-US\;"><span style="font-family:century gothic\;"><span style="font-size:20.0pt\;">2013 </span></span></span><br />\n<span style="language:en-US\;"><span style="font-family:century gothic\;"><span style="font-size:22.0pt\;">Business Priorities<br />\nLuncheon Series</span></span></span><br />\n<span style="font-size:16px\;"><span><span style="font-family: century gothic\;">A unique opportunity to meet with senior leaders from around the region </span></span><span><span style="font-family: century gothic\;">and hear from an expert from Minnesota&rsquo\;s business community</span></span></span><br />\n&nbsp\;<br />\n<span style="font-size:18px\;"><span><span style="font-family: century gothic\;">Wednesday\, May 1\, 2013</span></span><br />\n<span><span style="font-family: century gothic\;">11:30 am to 1:30 pm</span></span></span><br />\n<span style="font-size:16px\;"><span><span style="font-family: century gothic\;">The Crown Room at the Wellstead of Rogers</span></span><br />\n<span><span style="font-family: century gothic\;">20500 South Diamond Lake Road\, Rogers</span></span></span><br />\n<br />\n<span style="text-decoration:underline\;text-underline:single\;font-weight:bold\;language:en-US\;"><span style="font-family:century gothic\;"><span style="font-size:12.0pt\;">Our Guest Speaker:</span></span></span><br />\n<span style="language:en-US\;"><span style="font-family:century gothic\;"><span style="font-size:12.0pt\;">Mark Haveman\, Executive Director of the Minnesota Center for Fiscal Excellence</span></span></span><br />\n<span style="font-size:14px\;"><span><span style="font-family: century gothic\;">(formerly the Minnesota Taypayers Association)</span></span></span><br />\n&nbsp\;<br />\n&nbsp\;<br />\n<span style="text-decoration:underline\;text-underline:single\;font-weight:bold\;language:en-US\;"><span style="font-family:century gothic\;"><span style="font-size:12.0pt\;">Agenda</span></span></span><br />\n<span style="language:en-US\;"><span style="font-family:century gothic\;"><span style="font-size:12.0pt\;">11:30 - Registration and Networking with our communities&rsquo\; senior leaders</span></span></span><br />\n<span style="language:en-US\;"><span style="font-family:century gothic\;"><span style="font-size:12.0pt\;">12:00 - Lunch </span></span></span><br />\n<span style="language:en-US\;"><span style="font-family:century gothic\;"><span style="font-size:12.0pt\;">12:30 - Mark Haveman: &ldquo\;How the 2013 Session will Impact Business&rdquo\; </span></span></span><br />\n&nbsp\;<br />\n&nbsp\;<br />\n<span style="text-decoration:underline\;text-underline:single\;font-weight:bold\;language:en-US\;"><span style="font-family:century gothic\;"><span style="font-size:12.0pt\;">Cost:</span></span></span><br />\n<span style="language:en-US\;"><span style="font-family:century gothic\;"><span style="font-size:12.0pt\;">Member - $25 :: Non-Member - $40</span></span></span><br />\n&nbsp\;<br />\n<span style="font-style:italic\;font-weight:bold\;language:en-US\;"><span style="font-family:century gothic\;"><span style="font-size:12.0pt\;">RSVP by Friday\, April 26\, 2013</span></span></span><br />\n<span style="font-style:italic\;language:en-US\;"><span style="font-family:century gothic\;"><span style="font-size:12.0pt\;">phone: 763-428-2921 - fax: 763-428-9068 </span></span></span><br />\n<span style="font-style:italic\;language:en-US\;"><span style="font-family:century gothic\;"><span style="font-size:12.0pt\;">email: ahandshaw@i94westchamber.org</span></span></span><br />\n&nbsp\;<br />\n<br />\n&nbsp\;
LOCATION:The Crown Room at the Wellstead of Rogers 20500 South Diamond Lake Road\, Rogers
UID:e.1321.927
SEQUENCE:3
DTSTAMP:20260425T152423Z
URL:https://business.i94westchamber.org/events/details/business-priorities-luncheon-series-05-01-2013-927
END:VEVENT

END:VCALENDAR
