BEGIN:VCALENDAR
VERSION:2.0
PRODID:-//ChamberMaster//Event Calendar 2.0//EN
METHOD:PUBLISH
X-PUBLISHED-TTL:P3D
REFRESH-INTERVAL:P3D
CALSCALE:GREGORIAN
BEGIN:VEVENT
DTSTART;VALUE=DATE:20170316
DTEND;VALUE=DATE:20170317
TRANSP:TRANSPARENT
X-MICROSOFT-CDO-ALLDAYEVENT:TRUE
SUMMARY:Business Visits
DESCRIPTION:Heidi's Lifestyle Gardens- Corcoran - March 16th at 11:00am\n\n7555 County Road 116\n\nCorcoran\, Minnesota 55340\n\n763-420-2909\n\n \n\nVanda Counseling - Rogers - March 16th at 1:00pm\n\n14115 James Rd Ste. 305\n\nRogers\, MN 55374\n\n(763) 575-8086\n\n \n\nMartin Wagner Law - Rogers - March 16th at 1:45pm\n\n21330 John Milless Drive\, Suite 201\n\nP.O. Box 605\n\nRogers\, MN 55374\n\n(763) 425-6330
X-ALT-DESC;FMTTYPE=text/html:<strong><span style="color:black\;"><span style="font-family:verdana\,sans-serif\;"><span style="font-size:10.0pt\;">Heidi&#39\;s Lifestyle Gardens- Corcoran - March 16th at 11:00am</span></span></span></strong><br />\n<span style="color:black\;"><span style="font-family:verdana\,sans-serif\;"><span style="font-size:10.0pt\;">7555 County Road 116</span></span></span><br />\n<span style="color:black\;"><span style="font-family:verdana\,sans-serif\;"><span style="font-size:10.0pt\;"><span itemprop="addressLocality">Corcoran</span></span></span></span><span style="color:black\;"><span style="font-family:verdana\,sans-serif\;"><span style="font-size:10.0pt\;">\, </span></span></span><span style="color:black\;"><span style="font-family:verdana\,sans-serif\;"><span style="font-size:10.0pt\;"><span itemprop="addressRegion">Minnesota</span></span></span></span><span style="color:black\;"><span style="font-family:verdana\,sans-serif\;"><span style="font-size:10.0pt\;"> <span itemprop="postalCode">55340</span></span></span></span><br />\n<span style="color:black\;"><span style="font-family:verdana\,sans-serif\;"><span style="font-size:10.0pt\;">763-420-2909</span></span></span><br />\n&nbsp\;<br />\n<strong><span style="color:black\;"><span style="font-family:verdana\,sans-serif\;"><span style="font-size:10.0pt\;">Vanda Counseling - Rogers - March 16th at 1:00pm</span></span></span></strong><br />\n<span style="color:black\;"><span style="font-family:verdana\,sans-serif\;"><span style="font-size:10.0pt\;">14115 James Rd Ste. 305</span></span></span><br />\n<span style="color:black\;"><span style="font-family:verdana\,sans-serif\;"><span style="font-size:10.0pt\;"><span itemprop="addressLocality">Rogers</span></span></span></span><span style="color:black\;"><span style="font-family:verdana\,sans-serif\;"><span style="font-size:10.0pt\;">\, </span></span></span><span style="color:black\;"><span style="font-family:verdana\,sans-serif\;"><span style="font-size:10.0pt\;"><span itemprop="addressRegion">MN</span></span></span></span><span style="color:black\;"><span style="font-family:verdana\,sans-serif\;"><span style="font-size:10.0pt\;"> <span itemprop="postalCode">55374</span></span></span></span><br />\n<span style="color:black\;"><span style="font-family:verdana\,sans-serif\;"><span style="font-size:10.0pt\;">(763) 575-8086</span></span></span><br />\n&nbsp\;<br />\n<strong><span style="color:black\;"><span style="font-family:verdana\,sans-serif\;"><span style="font-size:10.0pt\;">Martin Wagner Law - Rogers - March 16th at 1:45pm</span></span></span></strong><br />\n<span style="color:black\;"><span style="font-family:verdana\,sans-serif\;"><span style="font-size:10.0pt\;">21330 John Milless Drive\, Suite 201</span></span></span><br />\n<span style="color:black\;"><span style="font-family:verdana\,sans-serif\;"><span style="font-size:10.0pt\;">P.O. Box 605</span></span></span><br />\n<span style="color:black\;"><span style="font-family:verdana\,sans-serif\;"><span style="font-size:10.0pt\;"><span itemprop="addressLocality">Rogers</span></span></span></span><span style="color:black\;"><span style="font-family:verdana\,sans-serif\;"><span style="font-size:10.0pt\;">\, </span></span></span><span style="color:black\;"><span style="font-family:verdana\,sans-serif\;"><span style="font-size:10.0pt\;"><span itemprop="addressRegion">MN</span></span></span></span><span style="color:black\;"><span style="font-family:verdana\,sans-serif\;"><span style="font-size:10.0pt\;"> <span itemprop="postalCode">55374</span></span></span></span><br />\n<span style="color:black\;"><span style="font-family:verdana\,sans-serif\;"><span style="font-size:10.0pt\;">(763) 425-6330</span></span></span><br />\n&nbsp\;
LOCATION:
UID:e.1321.2928
SEQUENCE:3
DTSTAMP:20260421T125818Z
URL:https://business.i94westchamber.org/events/details/business-visits-2928
END:VEVENT

END:VCALENDAR
