BEGIN:VCALENDAR
VERSION:2.0
PRODID:-//ChamberMaster//Event Calendar 2.0//EN
METHOD:PUBLISH
X-PUBLISHED-TTL:P3D
REFRESH-INTERVAL:P3D
CALSCALE:GREGORIAN
BEGIN:VEVENT
DTSTART:20170126T200000Z
DTEND:20170126T213000Z
X-MICROSOFT-CDO-ALLDAYEVENT:FALSE
SUMMARY:Business Visits - All are Welcome to Attrend
DESCRIPTION:Nothing Bundt Cake Thursday\, January 26th at 1:00pm (Maple Grove)\n\nVescio's Customizing and Restoration Thursday\, January 26th at 2:00pm (Rogers)Clear Simple Business Thursday\, January 26th at 2:30pm (Rogers)
X-ALT-DESC;FMTTYPE=text/html:<span style="color:black\;"><span style="font-family:verdana\,sans-serif\;"><span style="font-size:10.0pt\;">Nothing Bundt Cake Thursday\, January 26th at 1:00pm (Maple Grove)</span></span></span><br />\n<span style="color:black\;"><span style="font-family:verdana\,sans-serif\;"><span style="font-size:10.0pt\;">Vescio&#39\;s Customizing and Restoration Thursday\, January 26th at 2:00pm (Rogers)</span></span></span><span style="color:black\;"><span style="font-family:verdana\,sans-serif\;"><span style="font-size:10.0pt\;">Clear Simple Business Thursday\, January 26th at 2:30pm (Rogers) </span></span></span><br />\n&nbsp\;
LOCATION:
UID:e.1321.2600
SEQUENCE:3
DTSTAMP:20260421T155714Z
URL:https://business.i94westchamber.org/events/details/business-visits-all-are-welcome-to-attrend-2600
END:VEVENT

END:VCALENDAR
