BEGIN:VCALENDAR
VERSION:2.0
PRODID:-//ChamberMaster//Event Calendar 2.0//EN
METHOD:PUBLISH
X-PUBLISHED-TTL:P3D
REFRESH-INTERVAL:P3D
CALSCALE:GREGORIAN
BEGIN:VEVENT
DTSTART:20161215T200000Z
DTEND:20161215T211500Z
X-MICROSOFT-CDO-ALLDAYEVENT:FALSE
SUMMARY:Business Visits with Ambassadors
DESCRIPTION:Join the Ambassadors as they visit the following Chamber Members.\n\n\n\n2:00 Pearle Vision Maple Grove\n\n2:30\n\n3:00
X-ALT-DESC;FMTTYPE=text/html:Join the Ambassadors as they visit the following Chamber Members.<br />\n<br />\n2:00 Pearle Vision Maple Grove<br />\n2:30<br />\n3:00<br />\n&nbsp\;
LOCATION:
UID:e.1321.2525
SEQUENCE:3
DTSTAMP:20260421T171733Z
URL:https://business.i94westchamber.org/events/details/business-visits-with-ambassadors-2525
END:VEVENT

END:VCALENDAR
