BEGIN:VCALENDAR
VERSION:2.0
PRODID:-//ChamberMaster//Event Calendar 2.0//EN
METHOD:PUBLISH
X-PUBLISHED-TTL:P3D
REFRESH-INTERVAL:P3D
CALSCALE:GREGORIAN
BEGIN:VEVENT
DTSTART:20170310T141500Z
DTEND:20170310T151500Z
X-MICROSOFT-CDO-ALLDAYEVENT:FALSE
SUMMARY:Cancelled Breakfast with DJ (Chamber President)
DESCRIPTION:DJ is on vacation. See you next month1
X-ALT-DESC;FMTTYPE=text/html:<span style="font-family:century gothic\,sans-serif\;"><span style="font-size:14.0pt\;"><span style="font-size:14px\;"><span style="font-family:arial\;">DJ is on vacation. See you next month1</span></span></span></span>
LOCATION:Dehn's Country Manor 11281 Fernbrook Ln N\, Maple Grove\, MN 55369
UID:e.1321.2453
SEQUENCE:3
DTSTAMP:20260421T113157Z
URL:https://business.i94westchamber.org/events/details/cancelled-breakfast-with-dj-chamber-president-2453
END:VEVENT

END:VCALENDAR
