BEGIN:VCALENDAR
VERSION:2.0
PRODID:-//ChamberMaster//Event Calendar 2.0//EN
METHOD:PUBLISH
X-PUBLISHED-TTL:P3D
REFRESH-INTERVAL:P3D
CALSCALE:GREGORIAN
BEGIN:VEVENT
DTSTART:20121002T000000Z
DTEND:20121002T010000Z
X-MICROSOFT-CDO-ALLDAYEVENT:FALSE
SUMMARY:Candidates Forum - Dayton
DESCRIPTION:I-94 WEST CHAMBER OF COMMERCE TO SPONSOR CANDIDATES FORUM \n\n	The I-94 West Chamber of Commerce will sponsor a Candidates Forum from 7 pm to 8 pm on Monday\, October 1st at Dehn's Country Manor.  This Forum will provide area residents an opportunity to obtain information on candidates for Dayton City Council and Mayor. \n\n	The Forum will include brief introductions of the candidates and a question-and-answer session\, concluding with light refreshments and the opportunity to meet with candidates individually.\n\n	The I-94 West Chamber of Commerce does not endorse any candidate or party.  We encourage all eligible citizens to vote on Tuesday\, November 6\, 2012.
X-ALT-DESC;FMTTYPE=text/html:<p align="center" class="MsoNormalCxSpMiddle" style="text-align:center\;line-height:\nnormal">\n	<span style="font-family:arial\;"><b style="mso-bidi-font-weight:normal"><span new="" style="font-size: 12pt\;" times="">I-94 WEST CHAMBER OF COMMERCE TO SPONSOR CANDIDATES FORUM</span></b><span new="" style="font-size: 12pt\;" times=""> </span></span></p>\n<p class="MsoNormalCxSpMiddle" style="line-height:normal">\n	<span style="font-family:arial\;"><span new="" style="font-size: 12pt\;" times="">The I-94 West Chamber of Commerce will sponsor a Candidates Forum from 7 pm to 8 pm on Monday\, October 1st at Dehn&rsquo\;s Country Manor.<span>&nbsp\; </span>This Forum will provide area residents an opportunity to obtain information on candidates for Dayton City Council and Mayor. </span></span></p>\n<p class="MsoNormalCxSpMiddle" style="line-height:normal">\n	<span style="font-family:arial\;"><span new="" style="font-size: 12pt\;" times="">The Forum will include brief introductions of the candidates and a question-and-answer session\, concluding with light refreshments and the opportunity to meet with candidates individually.</span></span></p>\n<p class="MsoNormalCxSpMiddle" style="line-height:normal">\n	<span style="font-family:arial\;"><b style="mso-bidi-font-weight:\nnormal"><i style="mso-bidi-font-style:normal"><span new="" style="font-size: 12pt\;" times="">The I-94 West Chamber of Commerce does not endorse any candidate or party.<span>&nbsp\; </span>We encourage all eligible citizens to vote on Tuesday\, November 6\, 2012.</span></i></b></span></p>\n
LOCATION:Dehn's Country Manor 11281 Fernbrook Lane North\, Maple Grove
UID:e.1321.702
SEQUENCE:3
DTSTAMP:20260426T001707Z
URL:https://business.i94westchamber.org/events/details/candidates-forum-dayton-10-01-2012-702
END:VEVENT

END:VCALENDAR
