BEGIN:VCALENDAR
VERSION:2.0
PRODID:-//ChamberMaster//Event Calendar 2.0//EN
METHOD:PUBLISH
X-PUBLISHED-TTL:P3D
REFRESH-INTERVAL:P3D
CALSCALE:GREGORIAN
BEGIN:VEVENT
DTSTART:20121024T000000Z
DTEND:20121024T013000Z
X-MICROSOFT-CDO-ALLDAYEVENT:FALSE
SUMMARY:Candidates Forum - Hanover
DESCRIPTION:Come meet the candidates for Mayor and the two City Council positions to be filled at the General Election on November 6\, 2012.
X-ALT-DESC;FMTTYPE=text/html:Come meet the candidates for Mayor and the two City Council positions to be filled at the General Election on November 6\, 2012.<br />\n
LOCATION:Hanover City Hall 11250 5th St NE\, Hanover
UID:e.1321.716
SEQUENCE:3
DTSTAMP:20260426T001628Z
URL:https://business.i94westchamber.org/events/details/candidates-forum-hanover-10-23-2012-716
END:VEVENT

END:VCALENDAR
