BEGIN:VCALENDAR
VERSION:2.0
PRODID:-//ChamberMaster//Event Calendar 2.0//EN
METHOD:PUBLISH
X-PUBLISHED-TTL:P3D
REFRESH-INTERVAL:P3D
CALSCALE:GREGORIAN
BEGIN:VEVENT
DTSTART:20120917T233000Z
DTEND:20120918T013000Z
X-MICROSOFT-CDO-ALLDAYEVENT:FALSE
SUMMARY:Candidates Forum - Rogers
DESCRIPTION:A town hall meeting is scheduled for Monday\, Sept. 17\, from 6:30 to 8:30 p.m. at the Rogers Community Room.\n\n\n\nCome meet the candidates for Mayor and the two City Council positions to be filled at the General Election on November 6\, 2012.\n\n\n\nFind out who they are and what they plan on doing for the city of Rogers. There will be a question and answer period after the main forum.\n\n\n\nSponsored by the Rogers-Hassan Senior Friendship Group and the I-94 West Chamber of Commerce.
X-ALT-DESC;FMTTYPE=text/html:A town hall meeting is scheduled for Monday\, Sept. 17\, from 6:30 to 8:30 p.m. at the Rogers Community Room.<br />\n<br />\nCome meet the candidates for Mayor and the two City Council positions to be filled at the General Election on November 6\, 2012.<br />\n<br />\nFind out who they are and what they plan on doing for the city of Rogers. There will be a question and answer period after the main forum.<br />\n<br />\nSponsored by the Rogers-Hassan Senior Friendship Group and the I-94 West Chamber of Commerce.
LOCATION:Rogers Community Center
UID:e.1321.704
SEQUENCE:3
DTSTAMP:20260426T025224Z
URL:https://business.i94westchamber.org/events/details/candidates-forum-rogers-09-17-2012-704
END:VEVENT

END:VCALENDAR
