BEGIN:VCALENDAR
VERSION:2.0
PRODID:-//ChamberMaster//Event Calendar 2.0//EN
METHOD:PUBLISH
X-PUBLISHED-TTL:P3D
REFRESH-INTERVAL:P3D
CALSCALE:GREGORIAN
BEGIN:VEVENT
DTSTART:20121016T230000Z
DTEND:20121017T020000Z
X-MICROSOFT-CDO-ALLDAYEVENT:FALSE
SUMMARY:Candidates Forum - St. Michael - Albertville
DESCRIPTION:STMA WOMEN OF TODAY TO SPONSOR CANDIDATES FORUM\n\n	 \n\n	The St. Michael-Albertville Women of Today will sponsor a Candidates Forum from 6pm to 9pm on Tuesday\, October 16\, 2012 at the STMA Middle School West.  This Forum will provide an opportunity for area residents to obtain information on candidates for Albertville Mayor and City Council\, St. Michael Mayor and City Council\, and STMA School Board.\n\n	\n\n	The Forum will include brief presentations by candidates and a short question and answer session.  The evening will conclude with light refreshments and the opportunity to meet with the candidates one-on-one.\n\n	\n\n	The Women of Today does not endorse any candidate or party.  We encourage all eligible citizens to vote on November 6\, 2012.\n\n	\n\n	\n\n	The STMA Women of Today is a non-profit organization that promotes community service and personal development.  For information about Women of Today\, call 800-340-9817\, visit our website at www.stmawt.org\, or look for us on facebook.
X-ALT-DESC;FMTTYPE=text/html:<p style="text-align: center\;">\n	<b>STMA WOMEN OF TODAY TO SPONSOR CANDIDATES FORUM</b><br />\n	&nbsp\;</p>\n<p>\n	The St. Michael-Albertville Women of Today will sponsor a Candidates Forum from 6pm to 9pm on Tuesday\, October 16\, 2012 at the STMA Middle School West.&nbsp\; This Forum will provide an opportunity for area residents to obtain information on candidates for Albertville Mayor and City Council\, St. Michael Mayor and City Council\, and STMA School Board.<br />\n	<br />\n	The Forum will include brief presentations by candidates and a short question and answer session.&nbsp\; The evening will conclude with light refreshments and the opportunity to meet with the candidates one-on-one.<br />\n	<br />\n	<strong><em>The Women of Today does not endorse any candidate or party.&nbsp\; We encourage all eligible citizens to vote on November 6\, 2012.</em></strong><br />\n	<br />\n	<br />\n	The STMA Women of Today is a non-profit organization that promotes community service and personal development.&nbsp\; For information about Women of Today\, call 800-340-9817\, visit our website at <a href="http://www.stmawt.org">www.stmawt.org</a>\, or look for us on facebook.</p>\n
LOCATION:Middle School West 11343 50th Street NE\, Albertville
UID:e.1321.703
SEQUENCE:3
DTSTAMP:20260426T001754Z
URL:https://business.i94westchamber.org/events/details/candidates-forum-st-michael-albertville-10-16-2012-703
END:VEVENT

END:VCALENDAR
