BEGIN:VCALENDAR
VERSION:2.0
PRODID:-//ChamberMaster//Event Calendar 2.0//EN
METHOD:PUBLISH
X-PUBLISHED-TTL:P3D
REFRESH-INTERVAL:P3D
CALSCALE:GREGORIAN
BEGIN:VEVENT
DTSTART:20121010T000000Z
DTEND:20121010T020000Z
X-MICROSOFT-CDO-ALLDAYEVENT:FALSE
SUMMARY:Candidates Forum - Wright County
DESCRIPTION:Candidates forum for Wright County Commissioners\, Federal\, State\, and County Offices.\n\n\n\nCome meet the candidates for important Wright County positions to be filled at the General Election on November 6\, 2012.
X-ALT-DESC;FMTTYPE=text/html:Candidates forum for Wright County Commissioners\, Federal\, State\, and County Offices.<br />\n<br />\nCome meet the candidates for important Wright County positions to be filled at the General Election on November 6\, 2012.<br />\n<br />\n
LOCATION:Monticello Community Center 505 Walnut Street\, Monticello Monticello Mayor Forum 6:30 pm to 7 pm
UID:e.1321.714
SEQUENCE:3
DTSTAMP:20260426T001513Z
URL:https://business.i94westchamber.org/events/details/candidates-forum-wright-county-10-09-2012-714
END:VEVENT

END:VCALENDAR
