BEGIN:VCALENDAR
VERSION:2.0
PRODID:-//ChamberMaster//Event Calendar 2.0//EN
METHOD:PUBLISH
X-PUBLISHED-TTL:P3D
REFRESH-INTERVAL:P3D
CALSCALE:GREGORIAN
BEGIN:VEVENT
DTSTART:20161224T230000Z
DTEND:20161225T010000Z
X-MICROSOFT-CDO-ALLDAYEVENT:FALSE
SUMMARY:Candlelight Services
DESCRIPTION:Join us for Candlelight Services.
X-ALT-DESC;FMTTYPE=text/html:Join us for Candlelight Services.
LOCATION:
UID:e.1321.2531
SEQUENCE:3
DTSTAMP:20260421T155306Z
URL:https://business.i94westchamber.org/events/details/candlelight-services-2531
END:VEVENT

END:VCALENDAR
