BEGIN:VCALENDAR
VERSION:2.0
PRODID:-//ChamberMaster//Event Calendar 2.0//EN
METHOD:PUBLISH
X-PUBLISHED-TTL:P3D
REFRESH-INTERVAL:P3D
CALSCALE:GREGORIAN
BEGIN:VEVENT
DTSTART:20130221T200000Z
DTEND:20130221T220000Z
X-MICROSOFT-CDO-ALLDAYEVENT:FALSE
SUMMARY:Career and Networking Expo
DESCRIPTION:Join us for Rasmussen College's semi-annual Career and Networking Expo. This FREE event will be held at the Rasmussen College-St. Cloud campus on Thursday\, February 21st from 2:00-4:00p.m.  There are 25+ employers scheduled to attend\, all offering a wide range of positions\, internships\, and volunteer opportunities. This event is free and open to the community!  Bring your family members and friends!
X-ALT-DESC;FMTTYPE=text/html:<p class="MsoNormal" style="margin: 0in 0in 0pt">\n	<font size="3"><font color="#000000"><font face="Calibri">Join us for <span style="mso-bidi-font-weight: bold">Rasmussen College&rsquo\;s<b> </b>semi-annual<b> Career and Networking Expo. </b>This FREE event will be held<b> </b></span>at the Rasmussen College-St. Cloud campus on Thursday\, February 21st from 2:00-4:00p.m.&nbsp\; There are 25+ employers scheduled to attend\, all offering a wide range of positions\, internships\, and volunteer opportunities. This event is free and open to the community!&nbsp\; Bring your family members and friends!<o:p></o:p></font></font></font></p>\n
LOCATION:Rasmussen College ? St. Cloud\, MN 226 Park Ave. South St. Cloud\, MN 56301
UID:e.1321.895
SEQUENCE:3
DTSTAMP:20260425T191452Z
URL:https://business.i94westchamber.org/events/details/career-and-networking-expo-02-21-2013-895
END:VEVENT

END:VCALENDAR
