BEGIN:VCALENDAR
VERSION:2.0
PRODID:-//ChamberMaster//Event Calendar 2.0//EN
METHOD:PUBLISH
X-PUBLISHED-TTL:P3D
REFRESH-INTERVAL:P3D
CALSCALE:GREGORIAN
BEGIN:VEVENT
DTSTART:20140221T010000Z
DTEND:20140221T030000Z
X-MICROSOFT-CDO-ALLDAYEVENT:FALSE
SUMMARY:Celebration of A New Ministry
DESCRIPTION:Join us for a unique worship service with Bishop Brian Prior of the Diocese of Minnesota. It will be a Celebration of the Ministry of our Lead Pastor\, The Rev. Rob Cavanna and the People of Holy Trinity Episcopal Church. Special music will be played and sung by the Senior Choir. A Coffee/Dessert Reception follows in the Parish Hall. All are welcome to participate in this special celebration. The public is invited.
X-ALT-DESC;FMTTYPE=text/html:Join us for a unique worship service with Bishop Brian Prior of the Diocese of Minnesota. It will be a Celebration of the Ministry of our Lead Pastor\, The Rev. Rob Cavanna and the People of Holy Trinity Episcopal Church. Special music will be played and sung by the Senior Choir. A Coffee/Dessert Reception follows in the Parish Hall. All are welcome to participate in this special celebration. The public is invited.
LOCATION:Holy Trinity Episcopal Church\, 1326 4th Street NW\, Elk River.
UID:e.1321.1077
SEQUENCE:3
DTSTAMP:20260425T021551Z
URL:https://business.i94westchamber.org/events/details/celebration-of-a-new-ministry-02-20-2014-1077
END:VEVENT

END:VCALENDAR
