BEGIN:VCALENDAR
VERSION:2.0
PRODID:-//ChamberMaster//Event Calendar 2.0//EN
METHOD:PUBLISH
X-PUBLISHED-TTL:P3D
REFRESH-INTERVAL:P3D
CALSCALE:GREGORIAN
BEGIN:VEVENT
DTSTART:20120811T143000Z
DTEND:20120811T153000Z
X-MICROSOFT-CDO-ALLDAYEVENT:FALSE
SUMMARY:Chalk Walk Art Event 2012
DESCRIPTION:This sidewalk chalk walk art event  a community art project   is being sponsored by the Fine Arts Council of St. Michael-Albertville\, Shop Saint Michael and the Friends of the St. Michael Library.\n\n	\n\n	Each child who participates will be given his or her own block of cement in front of the St. Michael City Center on which to color. The theme is "my favorite summer-time activity."  The event is free. Each child who\n\n	participates will be entered in a drawing for generous prizes from local businesses. The event sponsors also will be handing out fun\, free gifts the day of the event\, to thank each child for participating. The lovely sidewalk chalk art will be preserved with a sealant to last for viewing during the Daze and Knights festival.\n\n	\n\n	Here's what you need to know: Upon arrival\, please visit the sign-in table at the front/south entrance of the St. Michael City Center.  Volunteers will be on hand to assist children in getting started. A child may have his or her own block to color.  This year\, families/friends may work on a bigger sidewalk block together\, if they wish. We encourage children of all ages to participate. The blocks will be numbered so that you can find your spot. Sidewalk chalk will be provided\, or you may bring your own. Sidewalk chalk only can be used.\n\n	\n\n	Come\, have fun\, draw with your family\, get some chalk on your hands...and let's make art as a community!
X-ALT-DESC;FMTTYPE=text/html:<p>\n	<span style="font-size: 12px">This sidewalk chalk walk art event &mdash\;a community art project &mdash\; is being sponsored by the Fine Arts Council of St. Michael-Albertville\, Shop Saint Michael and the Friends of the St. Michael Library.<br />\n	<br />\n	Each child who participates will be given his or her own block of cement in front of the St. Michael City Center on which to color. The theme is &ldquo\;my favorite summer-time activity.&rdquo\;&nbsp\; The event is free. Each child who<br />\n	participates will be entered in a drawing for generous prizes from local businesses. The event sponsors also will be handing out fun\, free gifts the day of the event\, to thank each child for participating. The lovely sidewalk chalk art will be preserved with a sealant to last for viewing during the Daze and Knights festival.<br />\n	<br />\n	Here&rsquo\;s what you need to know: Upon arrival\, please visit the sign-in table at the front/south entrance of the St. Michael City Center.&nbsp\; Volunteers will be on hand to assist children in getting started. A child may have his or her own block to color.&nbsp\; This year\, families/friends may work on a bigger sidewalk block together\, if they wish. We encourage children of all ages to participate. The blocks will be numbered so that you can find your spot. Sidewalk chalk will be provided\, or you may bring your own. Sidewalk chalk only can be used.<br />\n	<br />\n	Come\, have fun\, draw with your family\, get some chalk on your hands...and let&rsquo\;s make art as a community!</span></p>\n
LOCATION:St. Michael City Center
UID:e.1321.670
SEQUENCE:3
DTSTAMP:20260426T025331Z
URL:https://business.i94westchamber.org/events/details/chalk-walk-art-event-2012-08-11-2012-670
END:VEVENT

END:VCALENDAR
