BEGIN:VCALENDAR
VERSION:2.0
PRODID:-//ChamberMaster//Event Calendar 2.0//EN
METHOD:PUBLISH
X-PUBLISHED-TTL:P3D
REFRESH-INTERVAL:P3D
CALSCALE:GREGORIAN
BEGIN:VEVENT
DTSTART:20160114T141500Z
DTEND:20160114T151500Z
X-MICROSOFT-CDO-ALLDAYEVENT:FALSE
SUMMARY:Chamber 101
DESCRIPTION:Want to learn more about the Chamber? \n\nNeed a benefits refresher? \n\nJoin us for light snacks and coffee! \n\nEvery Other Month on the second Thursday \n\n8:15am to 9:15am\n\n Starts January 2016
X-ALT-DESC;FMTTYPE=text/html:<span style="language:en-US\;">Want to learn more about the Chamber?</span>&nbsp\;<br />\n<span style="language:en-US\;">Need a benefits refresher?</span>&nbsp\;<br />\n<span style="language:en-US\;">Join us for light snacks and coffee!</span>&nbsp\;<br />\n<span style="language:en-US\;">Every Other Month on the second Thursday</span>&nbsp\;<br />\n<span style="language:en-US\;">8:15am to 9:15am</span><br />\n&nbsp\;<span style="language:en-US\;">Starts January 2016</span><br />\n&nbsp\;
LOCATION:Chamber of Commerce 21370 John Milless Drive Rogers\, MN 55374
UID:e.1321.1760
SEQUENCE:3
DTSTAMP:20260422T065714Z
URL:https://business.i94westchamber.org/events/details/chamber-101-01-14-2016-1760
END:VEVENT

END:VCALENDAR
