BEGIN:VCALENDAR
VERSION:2.0
PRODID:-//ChamberMaster//Event Calendar 2.0//EN
METHOD:PUBLISH
X-PUBLISHED-TTL:P3D
REFRESH-INTERVAL:P3D
CALSCALE:GREGORIAN
BEGIN:VEVENT
DTSTART:20150805T160000Z
DTEND:20150805T170000Z
X-MICROSOFT-CDO-ALLDAYEVENT:FALSE
SUMMARY:Chamber 101
DESCRIPTION:The Chamber has new benefits\, new events\, and a new focus: YOU!\n\nCome hear about the #1 Business Concierge Service in Minnesota!\n\n\n\nLight lunch is provided.
X-ALT-DESC;FMTTYPE=text/html:The Chamber has new benefits\, new events\, and a new focus: YOU!<br />\nCome hear about the #1 Business Concierge Service in Minnesota!<br />\n<br />\nLight lunch is provided.
LOCATION:I-94 West Chamber Office 21370 John Milless Drive Rogers\, MN 55374
UID:e.1321.1670
SEQUENCE:3
DTSTAMP:20260422T141709Z
URL:https://business.i94westchamber.org/events/details/chamber-101-08-05-2015-1670
END:VEVENT

END:VCALENDAR
