BEGIN:VCALENDAR
VERSION:2.0
PRODID:-//ChamberMaster//Event Calendar 2.0//EN
METHOD:PUBLISH
X-PUBLISHED-TTL:P3D
REFRESH-INTERVAL:P3D
CALSCALE:GREGORIAN
BEGIN:VEVENT
DTSTART:20170322T163000Z
DTEND:20170322T173000Z
X-MICROSOFT-CDO-ALLDAYEVENT:FALSE
SUMMARY:Chamber Lunch at River Inn
DESCRIPTION:Join fellow chamber members for lunch and networking.
X-ALT-DESC;FMTTYPE=text/html:Join fellow chamber members for lunch and networking.
LOCATION:River Inn Hanover
UID:e.1321.2926
SEQUENCE:3
DTSTAMP:20260421T113054Z
URL:https://business.i94westchamber.org/events/details/chamber-lunch-at-river-inn-2926
END:VEVENT

END:VCALENDAR
