BEGIN:VCALENDAR
VERSION:2.0
PRODID:-//ChamberMaster//Event Calendar 2.0//EN
METHOD:PUBLISH
X-PUBLISHED-TTL:P3D
REFRESH-INTERVAL:P3D
CALSCALE:GREGORIAN
BEGIN:VEVENT
DTSTART:20150520T160000Z
DTEND:20150520T173000Z
X-MICROSOFT-CDO-ALLDAYEVENT:FALSE
SUMMARY:Chamber Open House
DESCRIPTION:Each month the I-94 West Chamber offers an opportunity for prospective members\, new members\, and new employees of existing members to learn more about the chamber and what we offer you! Light refreshments are provided!
X-ALT-DESC;FMTTYPE=text/html:Each month the I-94 West Chamber offers an opportunity for prospective members\, new members\, and new employees of existing members to learn more about the chamber and what we offer you! Light refreshments are provided!<br />\n<br />\n<br />\n<br />\n<br />\n&nbsp\;\n<div style="text-align: center\;">&nbsp\;</div>\n
LOCATION:Open House / I-94 West Chamber of Commerce 21370 John Milless Drive Rogers\, MN 55374
UID:e.1321.1311
SEQUENCE:3
DTSTAMP:20260422T183511Z
URL:https://business.i94westchamber.org/events/details/chamber-open-house-05-20-2015-1311
END:VEVENT

END:VCALENDAR
