BEGIN:VCALENDAR
VERSION:2.0
PRODID:-//ChamberMaster//Event Calendar 2.0//EN
METHOD:PUBLISH
X-PUBLISHED-TTL:P3D
REFRESH-INTERVAL:P3D
CALSCALE:GREGORIAN
BEGIN:VEVENT
DTSTART:20141203T170000Z
DTEND:20141203T183000Z
X-MICROSOFT-CDO-ALLDAYEVENT:FALSE
SUMMARY:Chamber Open House
DESCRIPTION:Each month the I-94 West Chamber offers an opportunity for prospective members\, new members\, and new employees of existing members to learn more about the chamber and what we offer you! Light refreshments are provided!
X-ALT-DESC;FMTTYPE=text/html:Each month the I-94 West Chamber offers an opportunity for prospective members\, new members\, and new employees of existing members to learn more about the chamber and what we offer you! Light refreshments are provided!<br />\n<br />\n<br />\n<br />\n<br />\n&nbsp\;\n<div style="text-align: center\;">&nbsp\;</div>\n
LOCATION:Open House / I-94 West Chamber of Commerce 21370 John Milless Drive Rogers\, MN 55374
UID:e.1321.1285
SEQUENCE:3
DTSTAMP:20260424T125036Z
URL:https://business.i94westchamber.org/events/details/chamber-open-house-12-03-2014-1285
END:VEVENT

END:VCALENDAR
