BEGIN:VCALENDAR
VERSION:2.0
PRODID:-//ChamberMaster//Event Calendar 2.0//EN
METHOD:PUBLISH
X-PUBLISHED-TTL:P3D
REFRESH-INTERVAL:P3D
CALSCALE:GREGORIAN
BEGIN:VEVENT
DTSTART:20170429T183000Z
DTEND:20170429T203000Z
X-MICROSOFT-CDO-ALLDAYEVENT:FALSE
SUMMARY:Chemists in the Library
DESCRIPTION:Learn about the wonders and excitement of chemistry with easy-to-do-activities led by this volunteer group of chemistry students\, teachers and professionals eager to share the science with all ages. Sponsor: Minnesota Section of the American Chemical Society.
X-ALT-DESC;FMTTYPE=text/html:Learn about the wonders and excitement of chemistry with easy-to-do-activities led by this volunteer group of chemistry students\, teachers and professionals eager to share the science with all ages. Sponsor: Minnesota Section of the American Chemical Society.
LOCATION:Rogers Library
UID:e.1321.2919
SEQUENCE:3
DTSTAMP:20260421T095956Z
URL:https://business.i94westchamber.org/events/details/chemists-in-the-library-2919
END:VEVENT

END:VCALENDAR
