BEGIN:VCALENDAR
VERSION:2.0
PRODID:-//ChamberMaster//Event Calendar 2.0//EN
METHOD:PUBLISH
X-PUBLISHED-TTL:P3D
REFRESH-INTERVAL:P3D
CALSCALE:GREGORIAN
BEGIN:VEVENT
DTSTART:20151212T160000Z
DTEND:20151212T210000Z
X-MICROSOFT-CDO-ALLDAYEVENT:FALSE
SUMMARY:Christmas Craft & Vendor Show
DESCRIPTION:Come and enjoy FREE pictures taken with Santa from 10am-Noon while you shop and enjoy 35+ vendors and hand made items! FREE ADMISSION $350+ in door prizes
X-ALT-DESC;FMTTYPE=text/html:Come and enjoy FREE pictures taken with Santa from 10am-Noon while you shop and enjoy 35+ vendors and hand made items! FREE ADMISSION $350+ in door prizes
LOCATION:St. Alberts Parish Center 11400 57th St NE Albertville\, MN
UID:e.1321.1808
SEQUENCE:3
DTSTAMP:20260422T082853Z
URL:https://business.i94westchamber.org/events/details/christmas-craft-vendor-show-12-12-2015-1808
END:VEVENT

END:VCALENDAR
