BEGIN:VCALENDAR
VERSION:2.0
PRODID:-//ChamberMaster//Event Calendar 2.0//EN
METHOD:PUBLISH
X-PUBLISHED-TTL:P3D
REFRESH-INTERVAL:P3D
CALSCALE:GREGORIAN
BEGIN:VEVENT
DTSTART:20120731T210000Z
DTEND:20120801T000000Z
X-MICROSOFT-CDO-ALLDAYEVENT:FALSE
SUMMARY:Coborn's Appreciation Day
DESCRIPTION:Come join the STMA Women of Today for a fun time while eating a ribeye steak sandwich for $5 or Coborn's Hotdog for $3!  Meals include coleslaw\, chips\, cookies\, watermelon\, and a beverage!\n\n\n\nCoborn's Parking Lot in Albertville!!
X-ALT-DESC;FMTTYPE=text/html:Come join the STMA Women of Today&nbsp\;for a fun time while eating a ribeye steak sandwich for $5 or Coborn&#39\;s Hotdog for $3!&nbsp\; Meals include coleslaw\, chips\, cookies\, watermelon\, and a beverage!<br />\n<br />\nCoborn&#39\;s Parking Lot in Albertville!!
LOCATION:Coborn's Albertville
UID:e.1321.666
SEQUENCE:3
DTSTAMP:20260426T041832Z
URL:https://business.i94westchamber.org/events/details/coborn-s-appreciation-day-07-31-2012-666
END:VEVENT

END:VCALENDAR
