BEGIN:VCALENDAR
VERSION:2.0
PRODID:-//ChamberMaster//Event Calendar 2.0//EN
METHOD:PUBLISH
X-PUBLISHED-TTL:P3D
REFRESH-INTERVAL:P3D
CALSCALE:GREGORIAN
BEGIN:VEVENT
DTSTART:20220907T130000Z
DTEND:20220907T140000Z
X-MICROSOFT-CDO-ALLDAYEVENT:FALSE
SUMMARY:Coffee & Conversation w/ The City of Maple Grove!
DESCRIPTION:Coffee & Conversation! Join fellow Chamber members for this informal networking event. Coffee at Rush Creek is a great way to start the day and to share updates from the business community!\n\n\n\nIn addition to our typical networking\, the City of Maple Grove will share information about the Community Center reinvestment project and how a local option sales tax is being brought to Maple Grove voters as the primary funding source for the $116 million project.\n\n \n\nBased on the priorities of residents and users\, project plans call for expansion and renovation of the center to provide a wider range of amenities and services to meet the needs of a growing population. In addition\, after 25 years of heavy use\, there is a need to make infrastructure investments to ensure the viability and sustainability of the building well into the future.\n\n \n\nFor detailed information about the Community Center project\, please visit www.GrowingTogetherMapleGrove.org.
X-ALT-DESC;FMTTYPE=text/html:<span style="font-size:12px\;"><span style="font-family:arial\;">Coffee &amp\; Conversation! Join fellow Chamber members for this informal networking event. Coffee at Rush Creek is a great way to start the day and to share updates from the business community!<br />\n<br />\nIn addition to our typical networking\, the City of Maple Grove will share information about the Community Center reinvestment project and how a local option sales tax is being brought to Maple Grove voters as the primary funding source for the $116 million project.<br />\n&nbsp\;<br />\nBased on the priorities of residents and users\, project plans call for expansion and renovation of the center to provide a wider range of amenities and services to meet the needs of a growing population. In addition\, after 25 years of heavy use\, there is a need to make infrastructure investments to ensure the viability and sustainability of the building well into the future.<br />\n&nbsp\;<br />\nFor detailed information about the Community Center project\, please visit <a href="http://www.GrowingTogetherMapleGrove.org">www.GrowingTogetherMapleGrove.org</a>. </span></span><br />\n&nbsp\;
LOCATION:Rush Creek Golf Club\, Skye Room\, 2nd Floor
UID:e.1321.7376
SEQUENCE:3
DTSTAMP:20260421T131643Z
URL:https://business.i94westchamber.org/events/details/coffee-conversation-w-the-city-of-maple-grove-7376
END:VEVENT

END:VCALENDAR
