BEGIN:VCALENDAR
VERSION:2.0
PRODID:-//ChamberMaster//Event Calendar 2.0//EN
METHOD:PUBLISH
X-PUBLISHED-TTL:P3D
REFRESH-INTERVAL:P3D
CALSCALE:GREGORIAN
BEGIN:VEVENT
DTSTART:20220601T130000Z
DTEND:20220601T140000Z
X-MICROSOFT-CDO-ALLDAYEVENT:FALSE
SUMMARY:Coffee & Conversation with Rep. Kristin Robbins
DESCRIPTION:Coffee & Conversation! Join fellow Chamber members for this informal networking event. Coffee at Rush Creek is a great way to start the day and to share updates from the business community! This month we will be joined by Representative Kristin Robbins who will be sharing updates from the capitol regarding important business related issues.
X-ALT-DESC;FMTTYPE=text/html:Coffee &amp\; Conversation! Join fellow Chamber members for this informal networking event. Coffee at Rush Creek is a great way to start the day and to share updates from the business community! <strong>This month we will be joined by Representative Kristin Robbins who will be sharing updates from the capitol regarding important business related issues.&nbsp\;</strong>
LOCATION:Rush Creek Golf Club\, Maple Grove
UID:e.1321.7373
SEQUENCE:3
DTSTAMP:20260424T182216Z
URL:https://business.i94westchamber.org/events/details/coffee-conversation-with-rep-kristin-robbins-7373
END:VEVENT

END:VCALENDAR
