BEGIN:VCALENDAR
VERSION:2.0
PRODID:-//ChamberMaster//Event Calendar 2.0//EN
METHOD:PUBLISH
X-PUBLISHED-TTL:P3D
REFRESH-INTERVAL:P3D
CALSCALE:GREGORIAN
BEGIN:VEVENT
DTSTART:20141127T160000Z
DTEND:20141127T171500Z
X-MICROSOFT-CDO-ALLDAYEVENT:FALSE
SUMMARY:Community Wide/Regional Thanksgiving Day Service
DESCRIPTION:Come and join with neighbors and friends to thank God for all the blessings that you have received in your lives. This special worship service will include a Litany of Thanksgiving as well as a special homily. All are welcome regardless of church denomination or affiliation. Bring all the kids and the entire family and start your Thanksgiving in a spiritual way!
X-ALT-DESC;FMTTYPE=text/html:Come and join with neighbors and friends to thank God for all the blessings that you have received in your lives. This special worship service will include a Litany of Thanksgiving as well as a special homily. All are welcome regardless of church denomination or affiliation. Bring all the kids and the entire family and start your Thanksgiving in a spiritual way!
LOCATION:Holy Trinity Episcopal Church 1326 4th Street NW Elk River
UID:e.1321.1344
SEQUENCE:3
DTSTAMP:20260424T153548Z
URL:https://business.i94westchamber.org/events/details/community-wide-regional-thanksgiving-day-service-11-27-2014-1344
END:VEVENT

END:VCALENDAR
