BEGIN:VCALENDAR
VERSION:2.0
PRODID:-//ChamberMaster//Event Calendar 2.0//EN
METHOD:PUBLISH
X-PUBLISHED-TTL:P3D
REFRESH-INTERVAL:P3D
CALSCALE:GREGORIAN
BEGIN:VEVENT
DTSTART:20170401T180000Z
DTEND:20170401T193000Z
X-MICROSOFT-CDO-ALLDAYEVENT:FALSE
SUMMARY:Conquer the College Application Essay
DESCRIPTION:Learn to utilize basic creative writing craft elements   strong characterization\, compelling narrative structure\, an interesting plot or premise   to write the best possible college application essay. Leave with ideas that will get you started on writing an essay that will wow your readers!                                                                                   Collaborator: The Loft Literary Center. Funded by Minnesota's Arts and Cultural Heritage Fund..
X-ALT-DESC;FMTTYPE=text/html:<br />\nLearn to utilize basic creative writing craft elements &ndash\; strong characterization\, compelling narrative structure\, an interesting plot or premise &ndash\; to write the best possible college application essay. Leave with ideas that will get you started on writing an essay that will wow your readers!&nbsp\;&nbsp\;&nbsp\;&nbsp\;&nbsp\;&nbsp\;&nbsp\;&nbsp\;&nbsp\;&nbsp\;&nbsp\;&nbsp\;&nbsp\;&nbsp\;&nbsp\;&nbsp\;&nbsp\;&nbsp\;&nbsp\;&nbsp\;&nbsp\;&nbsp\;&nbsp\;&nbsp\;&nbsp\;&nbsp\;&nbsp\;&nbsp\;&nbsp\;&nbsp\;&nbsp\;&nbsp\;&nbsp\;&nbsp\;&nbsp\;&nbsp\;&nbsp\;&nbsp\;&nbsp\;&nbsp\;&nbsp\;&nbsp\;&nbsp\;&nbsp\;&nbsp\;&nbsp\;&nbsp\;&nbsp\;&nbsp\;&nbsp\;&nbsp\;&nbsp\;&nbsp\;&nbsp\;&nbsp\;&nbsp\;&nbsp\;&nbsp\;&nbsp\;&nbsp\;&nbsp\;&nbsp\;&nbsp\;&nbsp\;&nbsp\;&nbsp\;&nbsp\;&nbsp\;&nbsp\;&nbsp\;&nbsp\;&nbsp\;&nbsp\;&nbsp\;&nbsp\;&nbsp\;&nbsp\;&nbsp\;&nbsp\;&nbsp\;&nbsp\;&nbsp\; Collaborator: The Loft Literary Center. Funded by Minnesota&#39\;s Arts and Cultural Heritage Fund..
LOCATION:Rogers Library
UID:e.1321.2914
SEQUENCE:3
DTSTAMP:20260421T112730Z
URL:https://business.i94westchamber.org/events/details/conquer-the-college-application-essay-2914
END:VEVENT

END:VCALENDAR
