BEGIN:VCALENDAR
VERSION:2.0
PRODID:-//ChamberMaster//Event Calendar 2.0//EN
METHOD:PUBLISH
X-PUBLISHED-TTL:P3D
REFRESH-INTERVAL:P3D
CALSCALE:GREGORIAN
BEGIN:VEVENT
DTSTART:20170408T140000Z
DTEND:20170408T200000Z
X-MICROSOFT-CDO-ALLDAYEVENT:FALSE
SUMMARY:Spring Flea Market & Craft Fair
DESCRIPTION:There will be drawings throughout the day\, lunch for sale from 10:30am to 2:00pm
X-ALT-DESC;FMTTYPE=text/html:&nbsp\;\n<div style="left: 729.917px\; top: 1094.46px\; font-size: 20px\; font-family: sans-serif\; transform: scaleX(0.82053)\;">&nbsp\;There will be drawings throughout the day\, lunch for sale from 10:30am to 2:00pm</div>\n
LOCATION:Rogers Community Room
UID:e.1321.2630
SEQUENCE:3
DTSTAMP:20260421T112731Z
URL:https://business.i94westchamber.org/events/details/craft-fair-2630
END:VEVENT

END:VCALENDAR
