BEGIN:VCALENDAR
VERSION:2.0
PRODID:-//ChamberMaster//Event Calendar 2.0//EN
METHOD:PUBLISH
X-PUBLISHED-TTL:P3D
REFRESH-INTERVAL:P3D
CALSCALE:GREGORIAN
BEGIN:VEVENT
DTSTART:20141030T223000Z
DTEND:20141031T000000Z
X-MICROSOFT-CDO-ALLDAYEVENT:FALSE
SUMMARY:Cyber Security Forum
DESCRIPTION:In honor of National Cyber Security Awareness Month\, we are hosting a forum on the topic. Hear from information security experts from Target and U.S. Bank.
X-ALT-DESC;FMTTYPE=text/html:<span class="fsl">In honor of National Cyber Security Awareness Month\, we are hosting a forum on the topic. Hear from information security experts from Target and U.S. Bank.</span>
LOCATION:
UID:e.1321.1274
SEQUENCE:3
DTSTAMP:20260424T154602Z
URL:https://business.i94westchamber.org/events/details/cyber-security-forum-10-30-2014-1274
END:VEVENT

END:VCALENDAR
